BEGIN:VCALENDAR
VERSION:2.0
PRODID:-//Bethany Lutheran Church LCMS - ECPv6.15.20//NONSGML v1.0//EN
CALSCALE:GREGORIAN
METHOD:PUBLISH
X-ORIGINAL-URL:https://www.bethanylutheransalisburymd.com
X-WR-CALDESC:Events for Bethany Lutheran Church LCMS
REFRESH-INTERVAL;VALUE=DURATION:PT1H
X-Robots-Tag:noindex
X-PUBLISHED-TTL:PT1H
BEGIN:VTIMEZONE
TZID:America/New_York
BEGIN:DAYLIGHT
TZOFFSETFROM:-0500
TZOFFSETTO:-0400
TZNAME:EDT
DTSTART:20240310T070000
END:DAYLIGHT
BEGIN:STANDARD
TZOFFSETFROM:-0400
TZOFFSETTO:-0500
TZNAME:EST
DTSTART:20241103T060000
END:STANDARD
BEGIN:DAYLIGHT
TZOFFSETFROM:-0500
TZOFFSETTO:-0400
TZNAME:EDT
DTSTART:20250309T070000
END:DAYLIGHT
BEGIN:STANDARD
TZOFFSETFROM:-0400
TZOFFSETTO:-0500
TZNAME:EST
DTSTART:20251102T060000
END:STANDARD
BEGIN:DAYLIGHT
TZOFFSETFROM:-0500
TZOFFSETTO:-0400
TZNAME:EDT
DTSTART:20260308T070000
END:DAYLIGHT
BEGIN:STANDARD
TZOFFSETFROM:-0400
TZOFFSETTO:-0500
TZNAME:EST
DTSTART:20261101T060000
END:STANDARD
END:VTIMEZONE
BEGIN:VEVENT
DTSTART;TZID=America/New_York:20250408T110000
DTEND;TZID=America/New_York:20250408T120000
DTSTAMP:20260424T080837
CREATED:20250404T022016Z
LAST-MODIFIED:20250404T022016Z
UID:10000811-1744110000-1744113600@www.bethanylutheransalisburymd.com
SUMMARY:Martha Circle
DESCRIPTION:
URL:https://www.bethanylutheransalisburymd.com/calendar/martha-circle-3/
LOCATION:Bethany Lutheran Church\, 817 Camden Avenue\, Salisbury\, MD\, 21801\, United States
CATEGORIES:Martha Circle
GEO:38.353845;-75.6063629
X-APPLE-STRUCTURED-LOCATION;VALUE=URI;X-ADDRESS=Bethany Lutheran Church 817 Camden Avenue Salisbury MD 21801 United States;X-APPLE-RADIUS=500;X-TITLE=817 Camden Avenue:geo:-75.6063629,38.353845
END:VEVENT
BEGIN:VEVENT
DTSTART;TZID=America/New_York:20250409T120000
DTEND;TZID=America/New_York:20250409T130000
DTSTAMP:20260424T080837
CREATED:20250404T021525Z
LAST-MODIFIED:20250404T021605Z
UID:10000749-1744200000-1744203600@www.bethanylutheransalisburymd.com
SUMMARY:Mid-Week Lenten Service
DESCRIPTION:
URL:https://www.bethanylutheransalisburymd.com/calendar/mid-week-lenten-service-3/2025-04-09/
LOCATION:Bethany Lutheran Church\, 817 Camden Avenue\, Salisbury\, MD\, 21801\, United States
CATEGORIES:Lenten Service
GEO:38.353845;-75.6063629
X-APPLE-STRUCTURED-LOCATION;VALUE=URI;X-ADDRESS=Bethany Lutheran Church 817 Camden Avenue Salisbury MD 21801 United States;X-APPLE-RADIUS=500;X-TITLE=817 Camden Avenue:geo:-75.6063629,38.353845
END:VEVENT
BEGIN:VEVENT
DTSTART;TZID=America/New_York:20250410T183000
DTEND;TZID=America/New_York:20250410T193000
DTSTAMP:20260424T080837
CREATED:20250404T021716Z
LAST-MODIFIED:20250404T021716Z
UID:10000803-1744309800-1744313400@www.bethanylutheransalisburymd.com
SUMMARY:Prayer and Bible Study
DESCRIPTION:
URL:https://www.bethanylutheransalisburymd.com/calendar/prayer-and-bible-study/2025-04-10/
LOCATION:Bethany Lutheran Church\, 817 Camden Avenue\, Salisbury\, MD\, 21801\, United States
CATEGORIES:Bible Study
GEO:38.353845;-75.6063629
X-APPLE-STRUCTURED-LOCATION;VALUE=URI;X-ADDRESS=Bethany Lutheran Church 817 Camden Avenue Salisbury MD 21801 United States;X-APPLE-RADIUS=500;X-TITLE=817 Camden Avenue:geo:-75.6063629,38.353845
END:VEVENT
BEGIN:VEVENT
DTSTART;TZID=America/New_York:20250412T140000
DTEND;TZID=America/New_York:20250412T150000
DTSTAMP:20260424T080837
CREATED:20250404T022050Z
LAST-MODIFIED:20250404T022050Z
UID:10000812-1744466400-1744470000@www.bethanylutheransalisburymd.com
SUMMARY:Senior Social
DESCRIPTION:
URL:https://www.bethanylutheransalisburymd.com/calendar/senior-social-3/
LOCATION:Bethany Lutheran Church\, 817 Camden Avenue\, Salisbury\, MD\, 21801\, United States
CATEGORIES:Senior Social
GEO:38.353845;-75.6063629
X-APPLE-STRUCTURED-LOCATION;VALUE=URI;X-ADDRESS=Bethany Lutheran Church 817 Camden Avenue Salisbury MD 21801 United States;X-APPLE-RADIUS=500;X-TITLE=817 Camden Avenue:geo:-75.6063629,38.353845
END:VEVENT
END:VCALENDAR