BEGIN:VCALENDAR
VERSION:2.0
PRODID:-//Bethany Lutheran Church LCMS - ECPv6.15.20//NONSGML v1.0//EN
CALSCALE:GREGORIAN
METHOD:PUBLISH
X-WR-CALNAME:Bethany Lutheran Church LCMS
X-ORIGINAL-URL:https://www.bethanylutheransalisburymd.com
X-WR-CALDESC:Events for Bethany Lutheran Church LCMS
REFRESH-INTERVAL;VALUE=DURATION:PT1H
X-Robots-Tag:noindex
X-PUBLISHED-TTL:PT1H
BEGIN:VTIMEZONE
TZID:America/New_York
BEGIN:DAYLIGHT
TZOFFSETFROM:-0500
TZOFFSETTO:-0400
TZNAME:EDT
DTSTART:20240310T070000
END:DAYLIGHT
BEGIN:STANDARD
TZOFFSETFROM:-0400
TZOFFSETTO:-0500
TZNAME:EST
DTSTART:20241103T060000
END:STANDARD
BEGIN:DAYLIGHT
TZOFFSETFROM:-0500
TZOFFSETTO:-0400
TZNAME:EDT
DTSTART:20250309T070000
END:DAYLIGHT
BEGIN:STANDARD
TZOFFSETFROM:-0400
TZOFFSETTO:-0500
TZNAME:EST
DTSTART:20251102T060000
END:STANDARD
BEGIN:DAYLIGHT
TZOFFSETFROM:-0500
TZOFFSETTO:-0400
TZNAME:EDT
DTSTART:20260308T070000
END:DAYLIGHT
BEGIN:STANDARD
TZOFFSETFROM:-0400
TZOFFSETTO:-0500
TZNAME:EST
DTSTART:20261101T060000
END:STANDARD
END:VTIMEZONE
BEGIN:VEVENT
DTSTART;TZID=America/New_York:20250430T120000
DTEND;TZID=America/New_York:20250430T130000
DTSTAMP:20260421T121512
CREATED:20250404T022510Z
LAST-MODIFIED:20250404T022510Z
UID:10000818-1746014400-1746018000@www.bethanylutheransalisburymd.com
SUMMARY:Prayer and Bible Study
DESCRIPTION:
URL:https://www.bethanylutheransalisburymd.com/calendar/prayer-and-bible-study-2/2025-04-30/
LOCATION:Bethany Lutheran Church\, 817 Camden Avenue\, Salisbury\, MD\, 21801\, United States
CATEGORIES:Bible Study
GEO:38.353845;-75.6063629
X-APPLE-STRUCTURED-LOCATION;VALUE=URI;X-ADDRESS=Bethany Lutheran Church 817 Camden Avenue Salisbury MD 21801 United States;X-APPLE-RADIUS=500;X-TITLE=817 Camden Avenue:geo:-75.6063629,38.353845
END:VEVENT
BEGIN:VEVENT
DTSTART;TZID=America/New_York:20250501T183000
DTEND;TZID=America/New_York:20250501T193000
DTSTAMP:20260421T121512
CREATED:20250511T003921Z
LAST-MODIFIED:20250511T003921Z
UID:10000825-1746124200-1746127800@www.bethanylutheransalisburymd.com
SUMMARY:Prayer & Bible Study
DESCRIPTION:
URL:https://www.bethanylutheransalisburymd.com/calendar/prayer-bible-study-3/2025-05-01/
LOCATION:Bethany Lutheran Church\, 817 Camden Avenue\, Salisbury\, MD\, 21801\, United States
CATEGORIES:Bible Study
GEO:38.353845;-75.6063629
X-APPLE-STRUCTURED-LOCATION;VALUE=URI;X-ADDRESS=Bethany Lutheran Church 817 Camden Avenue Salisbury MD 21801 United States;X-APPLE-RADIUS=500;X-TITLE=817 Camden Avenue:geo:-75.6063629,38.353845
END:VEVENT
BEGIN:VEVENT
DTSTART;TZID=America/New_York:20250507T120000
DTEND;TZID=America/New_York:20250507T130000
DTSTAMP:20260421T121512
CREATED:20250511T004210Z
LAST-MODIFIED:20250511T004210Z
UID:10001354-1746619200-1746622800@www.bethanylutheransalisburymd.com
SUMMARY:Prayer & Bible Study
DESCRIPTION:
URL:https://www.bethanylutheransalisburymd.com/calendar/prayer-bible-study-4/2025-05-07/
LOCATION:Bethany Lutheran Church\, 817 Camden Avenue\, Salisbury\, MD\, 21801\, United States
CATEGORIES:Bible Study
GEO:38.353845;-75.6063629
X-APPLE-STRUCTURED-LOCATION;VALUE=URI;X-ADDRESS=Bethany Lutheran Church 817 Camden Avenue Salisbury MD 21801 United States;X-APPLE-RADIUS=500;X-TITLE=817 Camden Avenue:geo:-75.6063629,38.353845
END:VEVENT
BEGIN:VEVENT
DTSTART;TZID=America/New_York:20250508T110000
DTEND;TZID=America/New_York:20250508T120000
DTSTAMP:20260421T121512
CREATED:20250511T004258Z
LAST-MODIFIED:20250511T004258Z
UID:10001358-1746702000-1746705600@www.bethanylutheransalisburymd.com
SUMMARY:Martha Circle
DESCRIPTION:
URL:https://www.bethanylutheransalisburymd.com/calendar/martha-circle-4/
LOCATION:Bethany Lutheran Church\, 817 Camden Avenue\, Salisbury\, MD\, 21801\, United States
CATEGORIES:Martha Circle
GEO:38.353845;-75.6063629
X-APPLE-STRUCTURED-LOCATION;VALUE=URI;X-ADDRESS=Bethany Lutheran Church 817 Camden Avenue Salisbury MD 21801 United States;X-APPLE-RADIUS=500;X-TITLE=817 Camden Avenue:geo:-75.6063629,38.353845
END:VEVENT
BEGIN:VEVENT
DTSTART;TZID=America/New_York:20250508T183000
DTEND;TZID=America/New_York:20250508T193000
DTSTAMP:20260421T121512
CREATED:20250511T003921Z
LAST-MODIFIED:20250511T003921Z
UID:10000826-1746729000-1746732600@www.bethanylutheransalisburymd.com
SUMMARY:Prayer & Bible Study
DESCRIPTION:
URL:https://www.bethanylutheransalisburymd.com/calendar/prayer-bible-study-3/2025-05-08/
LOCATION:Bethany Lutheran Church\, 817 Camden Avenue\, Salisbury\, MD\, 21801\, United States
CATEGORIES:Bible Study
GEO:38.353845;-75.6063629
X-APPLE-STRUCTURED-LOCATION;VALUE=URI;X-ADDRESS=Bethany Lutheran Church 817 Camden Avenue Salisbury MD 21801 United States;X-APPLE-RADIUS=500;X-TITLE=817 Camden Avenue:geo:-75.6063629,38.353845
END:VEVENT
BEGIN:VEVENT
DTSTART;TZID=America/New_York:20250510T140000
DTEND;TZID=America/New_York:20250510T150000
DTSTAMP:20260421T121512
CREATED:20250511T004333Z
LAST-MODIFIED:20250511T004333Z
UID:10001359-1746885600-1746889200@www.bethanylutheransalisburymd.com
SUMMARY:Senior Social
DESCRIPTION:
URL:https://www.bethanylutheransalisburymd.com/calendar/senior-social-4/
LOCATION:Bethany Lutheran Church\, 817 Camden Avenue\, Salisbury\, MD\, 21801\, United States
CATEGORIES:Senior Social
GEO:38.353845;-75.6063629
X-APPLE-STRUCTURED-LOCATION;VALUE=URI;X-ADDRESS=Bethany Lutheran Church 817 Camden Avenue Salisbury MD 21801 United States;X-APPLE-RADIUS=500;X-TITLE=817 Camden Avenue:geo:-75.6063629,38.353845
END:VEVENT
BEGIN:VEVENT
DTSTART;VALUE=DATE:20250511
DTEND;VALUE=DATE:20250512
DTSTAMP:20260421T121512
CREATED:20250511T004531Z
LAST-MODIFIED:20250511T004531Z
UID:10001884-1746921600-1747007999@www.bethanylutheransalisburymd.com
SUMMARY:Happy Mother's Day!
DESCRIPTION:
URL:https://www.bethanylutheransalisburymd.com/calendar/happy-mothers-day/
LOCATION:Bethany Lutheran Church\, 817 Camden Avenue\, Salisbury\, MD\, 21801\, United States
GEO:38.353845;-75.6063629
X-APPLE-STRUCTURED-LOCATION;VALUE=URI;X-ADDRESS=Bethany Lutheran Church 817 Camden Avenue Salisbury MD 21801 United States;X-APPLE-RADIUS=500;X-TITLE=817 Camden Avenue:geo:-75.6063629,38.353845
END:VEVENT
BEGIN:VEVENT
DTSTART;TZID=America/New_York:20250514T120000
DTEND;TZID=America/New_York:20250514T130000
DTSTAMP:20260421T121512
CREATED:20250511T004210Z
LAST-MODIFIED:20250511T004210Z
UID:10001355-1747224000-1747227600@www.bethanylutheransalisburymd.com
SUMMARY:Prayer & Bible Study
DESCRIPTION:
URL:https://www.bethanylutheransalisburymd.com/calendar/prayer-bible-study-4/2025-05-14/
LOCATION:Bethany Lutheran Church\, 817 Camden Avenue\, Salisbury\, MD\, 21801\, United States
CATEGORIES:Bible Study
GEO:38.353845;-75.6063629
X-APPLE-STRUCTURED-LOCATION;VALUE=URI;X-ADDRESS=Bethany Lutheran Church 817 Camden Avenue Salisbury MD 21801 United States;X-APPLE-RADIUS=500;X-TITLE=817 Camden Avenue:geo:-75.6063629,38.353845
END:VEVENT
BEGIN:VEVENT
DTSTART;TZID=America/New_York:20250515T183000
DTEND;TZID=America/New_York:20250515T193000
DTSTAMP:20260421T121512
CREATED:20250511T003921Z
LAST-MODIFIED:20250511T003921Z
UID:10000827-1747333800-1747337400@www.bethanylutheransalisburymd.com
SUMMARY:Prayer & Bible Study
DESCRIPTION:
URL:https://www.bethanylutheransalisburymd.com/calendar/prayer-bible-study-3/2025-05-15/
LOCATION:Bethany Lutheran Church\, 817 Camden Avenue\, Salisbury\, MD\, 21801\, United States
CATEGORIES:Bible Study
GEO:38.353845;-75.6063629
X-APPLE-STRUCTURED-LOCATION;VALUE=URI;X-ADDRESS=Bethany Lutheran Church 817 Camden Avenue Salisbury MD 21801 United States;X-APPLE-RADIUS=500;X-TITLE=817 Camden Avenue:geo:-75.6063629,38.353845
END:VEVENT
BEGIN:VEVENT
DTSTART;TZID=America/New_York:20250521T120000
DTEND;TZID=America/New_York:20250521T130000
DTSTAMP:20260421T121512
CREATED:20250511T004210Z
LAST-MODIFIED:20250511T004210Z
UID:10001356-1747828800-1747832400@www.bethanylutheransalisburymd.com
SUMMARY:Prayer & Bible Study
DESCRIPTION:
URL:https://www.bethanylutheransalisburymd.com/calendar/prayer-bible-study-4/2025-05-21/
LOCATION:Bethany Lutheran Church\, 817 Camden Avenue\, Salisbury\, MD\, 21801\, United States
CATEGORIES:Bible Study
GEO:38.353845;-75.6063629
X-APPLE-STRUCTURED-LOCATION;VALUE=URI;X-ADDRESS=Bethany Lutheran Church 817 Camden Avenue Salisbury MD 21801 United States;X-APPLE-RADIUS=500;X-TITLE=817 Camden Avenue:geo:-75.6063629,38.353845
END:VEVENT
BEGIN:VEVENT
DTSTART;TZID=America/New_York:20250522T183000
DTEND;TZID=America/New_York:20250522T193000
DTSTAMP:20260421T121512
CREATED:20250511T003921Z
LAST-MODIFIED:20250511T003921Z
UID:10000828-1747938600-1747942200@www.bethanylutheransalisburymd.com
SUMMARY:Prayer & Bible Study
DESCRIPTION:
URL:https://www.bethanylutheransalisburymd.com/calendar/prayer-bible-study-3/2025-05-22/
LOCATION:Bethany Lutheran Church\, 817 Camden Avenue\, Salisbury\, MD\, 21801\, United States
CATEGORIES:Bible Study
GEO:38.353845;-75.6063629
X-APPLE-STRUCTURED-LOCATION;VALUE=URI;X-ADDRESS=Bethany Lutheran Church 817 Camden Avenue Salisbury MD 21801 United States;X-APPLE-RADIUS=500;X-TITLE=817 Camden Avenue:geo:-75.6063629,38.353845
END:VEVENT
BEGIN:VEVENT
DTSTART;VALUE=DATE:20250526
DTEND;VALUE=DATE:20250527
DTSTAMP:20260421T121512
CREATED:20250511T004615Z
LAST-MODIFIED:20250511T004615Z
UID:10001885-1748217600-1748303999@www.bethanylutheransalisburymd.com
SUMMARY:Happy Memorial Day!
DESCRIPTION:
URL:https://www.bethanylutheransalisburymd.com/calendar/happy-memorial-day/
LOCATION:Bethany Lutheran Church\, 817 Camden Avenue\, Salisbury\, MD\, 21801\, United States
GEO:38.353845;-75.6063629
X-APPLE-STRUCTURED-LOCATION;VALUE=URI;X-ADDRESS=Bethany Lutheran Church 817 Camden Avenue Salisbury MD 21801 United States;X-APPLE-RADIUS=500;X-TITLE=817 Camden Avenue:geo:-75.6063629,38.353845
END:VEVENT
BEGIN:VEVENT
DTSTART;TZID=America/New_York:20250528T120000
DTEND;TZID=America/New_York:20250528T130000
DTSTAMP:20260421T121512
CREATED:20250511T004210Z
LAST-MODIFIED:20250511T004210Z
UID:10001357-1748433600-1748437200@www.bethanylutheransalisburymd.com
SUMMARY:Prayer & Bible Study
DESCRIPTION:
URL:https://www.bethanylutheransalisburymd.com/calendar/prayer-bible-study-4/2025-05-28/
LOCATION:Bethany Lutheran Church\, 817 Camden Avenue\, Salisbury\, MD\, 21801\, United States
CATEGORIES:Bible Study
GEO:38.353845;-75.6063629
X-APPLE-STRUCTURED-LOCATION;VALUE=URI;X-ADDRESS=Bethany Lutheran Church 817 Camden Avenue Salisbury MD 21801 United States;X-APPLE-RADIUS=500;X-TITLE=817 Camden Avenue:geo:-75.6063629,38.353845
END:VEVENT
BEGIN:VEVENT
DTSTART;TZID=America/New_York:20250529T183000
DTEND;TZID=America/New_York:20250529T193000
DTSTAMP:20260421T121512
CREATED:20250511T003921Z
LAST-MODIFIED:20250511T003921Z
UID:10000829-1748543400-1748547000@www.bethanylutheransalisburymd.com
SUMMARY:Prayer & Bible Study
DESCRIPTION:
URL:https://www.bethanylutheransalisburymd.com/calendar/prayer-bible-study-3/2025-05-29/
LOCATION:Bethany Lutheran Church\, 817 Camden Avenue\, Salisbury\, MD\, 21801\, United States
CATEGORIES:Bible Study
GEO:38.353845;-75.6063629
X-APPLE-STRUCTURED-LOCATION;VALUE=URI;X-ADDRESS=Bethany Lutheran Church 817 Camden Avenue Salisbury MD 21801 United States;X-APPLE-RADIUS=500;X-TITLE=817 Camden Avenue:geo:-75.6063629,38.353845
END:VEVENT
BEGIN:VEVENT
DTSTART;TZID=America/New_York:20250604T120000
DTEND;TZID=America/New_York:20250604T130000
DTSTAMP:20260421T121512
CREATED:20250602T221049Z
LAST-MODIFIED:20250602T221246Z
UID:10001886-1749038400-1749042000@www.bethanylutheransalisburymd.com
SUMMARY:Prayer & Bible Study
DESCRIPTION:
URL:https://www.bethanylutheransalisburymd.com/calendar/prayer-bible-study-5/2025-06-04/
LOCATION:Bethany Lutheran Church\, 817 Camden Avenue\, Salisbury\, MD\, 21801\, United States
CATEGORIES:Bible Study
GEO:38.353845;-75.6063629
X-APPLE-STRUCTURED-LOCATION;VALUE=URI;X-ADDRESS=Bethany Lutheran Church 817 Camden Avenue Salisbury MD 21801 United States;X-APPLE-RADIUS=500;X-TITLE=817 Camden Avenue:geo:-75.6063629,38.353845
END:VEVENT
BEGIN:VEVENT
DTSTART;TZID=America/New_York:20250605T183000
DTEND;TZID=America/New_York:20250605T193000
DTSTAMP:20260421T121512
CREATED:20250602T221156Z
LAST-MODIFIED:20250602T221156Z
UID:10001942-1749148200-1749151800@www.bethanylutheransalisburymd.com
SUMMARY:Prayer & Bible Study
DESCRIPTION:
URL:https://www.bethanylutheransalisburymd.com/calendar/prayer-bible-study-6/2025-06-05/
LOCATION:Bethany Lutheran Church\, 817 Camden Avenue\, Salisbury\, MD\, 21801\, United States
CATEGORIES:Bible Study
GEO:38.353845;-75.6063629
X-APPLE-STRUCTURED-LOCATION;VALUE=URI;X-ADDRESS=Bethany Lutheran Church 817 Camden Avenue Salisbury MD 21801 United States;X-APPLE-RADIUS=500;X-TITLE=817 Camden Avenue:geo:-75.6063629,38.353845
END:VEVENT
BEGIN:VEVENT
DTSTART;TZID=America/New_York:20250611T120000
DTEND;TZID=America/New_York:20250611T130000
DTSTAMP:20260421T121512
CREATED:20250602T221049Z
LAST-MODIFIED:20250602T221246Z
UID:10001887-1749643200-1749646800@www.bethanylutheransalisburymd.com
SUMMARY:Prayer & Bible Study
DESCRIPTION:
URL:https://www.bethanylutheransalisburymd.com/calendar/prayer-bible-study-5/2025-06-11/
LOCATION:Bethany Lutheran Church\, 817 Camden Avenue\, Salisbury\, MD\, 21801\, United States
CATEGORIES:Bible Study
GEO:38.353845;-75.6063629
X-APPLE-STRUCTURED-LOCATION;VALUE=URI;X-ADDRESS=Bethany Lutheran Church 817 Camden Avenue Salisbury MD 21801 United States;X-APPLE-RADIUS=500;X-TITLE=817 Camden Avenue:geo:-75.6063629,38.353845
END:VEVENT
BEGIN:VEVENT
DTSTART;TZID=America/New_York:20250612T183000
DTEND;TZID=America/New_York:20250612T193000
DTSTAMP:20260421T121512
CREATED:20250602T221156Z
LAST-MODIFIED:20250602T221156Z
UID:10001943-1749753000-1749756600@www.bethanylutheransalisburymd.com
SUMMARY:Prayer & Bible Study
DESCRIPTION:
URL:https://www.bethanylutheransalisburymd.com/calendar/prayer-bible-study-6/2025-06-12/
LOCATION:Bethany Lutheran Church\, 817 Camden Avenue\, Salisbury\, MD\, 21801\, United States
CATEGORIES:Bible Study
GEO:38.353845;-75.6063629
X-APPLE-STRUCTURED-LOCATION;VALUE=URI;X-ADDRESS=Bethany Lutheran Church 817 Camden Avenue Salisbury MD 21801 United States;X-APPLE-RADIUS=500;X-TITLE=817 Camden Avenue:geo:-75.6063629,38.353845
END:VEVENT
BEGIN:VEVENT
DTSTART;TZID=America/New_York:20250614T140000
DTEND;TZID=America/New_York:20250614T150000
DTSTAMP:20260421T121512
CREATED:20250602T221343Z
LAST-MODIFIED:20250602T221529Z
UID:10001946-1749909600-1749913200@www.bethanylutheransalisburymd.com
SUMMARY:Senior Social
DESCRIPTION:
URL:https://www.bethanylutheransalisburymd.com/calendar/senior-social-5/
LOCATION:Bethany Lutheran Church\, 817 Camden Avenue\, Salisbury\, MD\, 21801\, United States
CATEGORIES:Senior Social
GEO:38.353845;-75.6063629
X-APPLE-STRUCTURED-LOCATION;VALUE=URI;X-ADDRESS=Bethany Lutheran Church 817 Camden Avenue Salisbury MD 21801 United States;X-APPLE-RADIUS=500;X-TITLE=817 Camden Avenue:geo:-75.6063629,38.353845
END:VEVENT
BEGIN:VEVENT
DTSTART;VALUE=DATE:20250615
DTEND;VALUE=DATE:20250616
DTSTAMP:20260421T121512
CREATED:20250602T221411Z
LAST-MODIFIED:20250602T221411Z
UID:10001947-1749945600-1750031999@www.bethanylutheransalisburymd.com
SUMMARY:HAPPY FATHER'S DAY!
DESCRIPTION:
URL:https://www.bethanylutheransalisburymd.com/calendar/happy-fathers-day/
LOCATION:Bethany Lutheran Church\, 817 Camden Avenue\, Salisbury\, MD\, 21801\, United States
GEO:38.353845;-75.6063629
X-APPLE-STRUCTURED-LOCATION;VALUE=URI;X-ADDRESS=Bethany Lutheran Church 817 Camden Avenue Salisbury MD 21801 United States;X-APPLE-RADIUS=500;X-TITLE=817 Camden Avenue:geo:-75.6063629,38.353845
END:VEVENT
BEGIN:VEVENT
DTSTART;TZID=America/New_York:20250617T123000
DTEND;TZID=America/New_York:20250617T170000
DTSTAMP:20260421T121512
CREATED:20250602T221446Z
LAST-MODIFIED:20250602T221446Z
UID:10001948-1750163400-1750179600@www.bethanylutheransalisburymd.com
SUMMARY:Food Bank Drop/Distribution
DESCRIPTION:
URL:https://www.bethanylutheransalisburymd.com/calendar/food-bank-drop-distribution-4/
LOCATION:Bethany Lutheran Church\, 817 Camden Avenue\, Salisbury\, MD\, 21801\, United States
CATEGORIES:Food Bank
GEO:38.353845;-75.6063629
X-APPLE-STRUCTURED-LOCATION;VALUE=URI;X-ADDRESS=Bethany Lutheran Church 817 Camden Avenue Salisbury MD 21801 United States;X-APPLE-RADIUS=500;X-TITLE=817 Camden Avenue:geo:-75.6063629,38.353845
END:VEVENT
BEGIN:VEVENT
DTSTART;TZID=America/New_York:20250618T120000
DTEND;TZID=America/New_York:20250618T130000
DTSTAMP:20260421T121512
CREATED:20250602T221049Z
LAST-MODIFIED:20250602T221246Z
UID:10001888-1750248000-1750251600@www.bethanylutheransalisburymd.com
SUMMARY:Prayer & Bible Study
DESCRIPTION:
URL:https://www.bethanylutheransalisburymd.com/calendar/prayer-bible-study-5/2025-06-18/
LOCATION:Bethany Lutheran Church\, 817 Camden Avenue\, Salisbury\, MD\, 21801\, United States
CATEGORIES:Bible Study
GEO:38.353845;-75.6063629
X-APPLE-STRUCTURED-LOCATION;VALUE=URI;X-ADDRESS=Bethany Lutheran Church 817 Camden Avenue Salisbury MD 21801 United States;X-APPLE-RADIUS=500;X-TITLE=817 Camden Avenue:geo:-75.6063629,38.353845
END:VEVENT
BEGIN:VEVENT
DTSTART;TZID=America/New_York:20250619T183000
DTEND;TZID=America/New_York:20250619T193000
DTSTAMP:20260421T121512
CREATED:20250602T221156Z
LAST-MODIFIED:20250602T221156Z
UID:10001944-1750357800-1750361400@www.bethanylutheransalisburymd.com
SUMMARY:Prayer & Bible Study
DESCRIPTION:
URL:https://www.bethanylutheransalisburymd.com/calendar/prayer-bible-study-6/2025-06-19/
LOCATION:Bethany Lutheran Church\, 817 Camden Avenue\, Salisbury\, MD\, 21801\, United States
CATEGORIES:Bible Study
GEO:38.353845;-75.6063629
X-APPLE-STRUCTURED-LOCATION;VALUE=URI;X-ADDRESS=Bethany Lutheran Church 817 Camden Avenue Salisbury MD 21801 United States;X-APPLE-RADIUS=500;X-TITLE=817 Camden Avenue:geo:-75.6063629,38.353845
END:VEVENT
BEGIN:VEVENT
DTSTART;TZID=America/New_York:20250625T120000
DTEND;TZID=America/New_York:20250625T130000
DTSTAMP:20260421T121512
CREATED:20250602T221049Z
LAST-MODIFIED:20250602T221246Z
UID:10001889-1750852800-1750856400@www.bethanylutheransalisburymd.com
SUMMARY:Prayer & Bible Study
DESCRIPTION:
URL:https://www.bethanylutheransalisburymd.com/calendar/prayer-bible-study-5/2025-06-25/
LOCATION:Bethany Lutheran Church\, 817 Camden Avenue\, Salisbury\, MD\, 21801\, United States
CATEGORIES:Bible Study
GEO:38.353845;-75.6063629
X-APPLE-STRUCTURED-LOCATION;VALUE=URI;X-ADDRESS=Bethany Lutheran Church 817 Camden Avenue Salisbury MD 21801 United States;X-APPLE-RADIUS=500;X-TITLE=817 Camden Avenue:geo:-75.6063629,38.353845
END:VEVENT
BEGIN:VEVENT
DTSTART;TZID=America/New_York:20250626T183000
DTEND;TZID=America/New_York:20250626T193000
DTSTAMP:20260421T121512
CREATED:20250602T221156Z
LAST-MODIFIED:20250602T221156Z
UID:10001945-1750962600-1750966200@www.bethanylutheransalisburymd.com
SUMMARY:Prayer & Bible Study
DESCRIPTION:
URL:https://www.bethanylutheransalisburymd.com/calendar/prayer-bible-study-6/2025-06-26/
LOCATION:Bethany Lutheran Church\, 817 Camden Avenue\, Salisbury\, MD\, 21801\, United States
CATEGORIES:Bible Study
GEO:38.353845;-75.6063629
X-APPLE-STRUCTURED-LOCATION;VALUE=URI;X-ADDRESS=Bethany Lutheran Church 817 Camden Avenue Salisbury MD 21801 United States;X-APPLE-RADIUS=500;X-TITLE=817 Camden Avenue:geo:-75.6063629,38.353845
END:VEVENT
BEGIN:VEVENT
DTSTART;TZID=America/New_York:20250702T120000
DTEND;TZID=America/New_York:20250702T130000
DTSTAMP:20260421T121512
CREATED:20250708T133449Z
LAST-MODIFIED:20250708T133449Z
UID:10001949-1751457600-1751461200@www.bethanylutheransalisburymd.com
SUMMARY:Prayer & Bible Study
DESCRIPTION:
URL:https://www.bethanylutheransalisburymd.com/calendar/prayer-bible-study-7/2025-07-02/
LOCATION:Bethany Lutheran Church\, 817 Camden Avenue\, Salisbury\, MD\, 21801\, United States
CATEGORIES:Bible Study
GEO:38.353845;-75.6063629
X-APPLE-STRUCTURED-LOCATION;VALUE=URI;X-ADDRESS=Bethany Lutheran Church 817 Camden Avenue Salisbury MD 21801 United States;X-APPLE-RADIUS=500;X-TITLE=817 Camden Avenue:geo:-75.6063629,38.353845
END:VEVENT
BEGIN:VEVENT
DTSTART;TZID=America/New_York:20250703T183000
DTEND;TZID=America/New_York:20250703T193000
DTSTAMP:20260421T121512
CREATED:20250708T133558Z
LAST-MODIFIED:20250708T133558Z
UID:10001962-1751567400-1751571000@www.bethanylutheransalisburymd.com
SUMMARY:Prayer & Bible Study
DESCRIPTION:
URL:https://www.bethanylutheransalisburymd.com/calendar/prayer-bible-study-8/2025-07-03/
LOCATION:Bethany Lutheran Church\, 817 Camden Avenue\, Salisbury\, MD\, 21801\, United States
CATEGORIES:Bible Study
GEO:38.353845;-75.6063629
X-APPLE-STRUCTURED-LOCATION;VALUE=URI;X-ADDRESS=Bethany Lutheran Church 817 Camden Avenue Salisbury MD 21801 United States;X-APPLE-RADIUS=500;X-TITLE=817 Camden Avenue:geo:-75.6063629,38.353845
END:VEVENT
BEGIN:VEVENT
DTSTART;VALUE=DATE:20250704
DTEND;VALUE=DATE:20250705
DTSTAMP:20260421T121512
CREATED:20250708T133645Z
LAST-MODIFIED:20250708T133645Z
UID:10001975-1751587200-1751673599@www.bethanylutheransalisburymd.com
SUMMARY:HAPPY INDEPENDENCE DAY!!
DESCRIPTION:
URL:https://www.bethanylutheransalisburymd.com/calendar/happy-independence-day/
LOCATION:Bethany Lutheran Church\, 817 Camden Avenue\, Salisbury\, MD\, 21801\, United States
GEO:38.353845;-75.6063629
X-APPLE-STRUCTURED-LOCATION;VALUE=URI;X-ADDRESS=Bethany Lutheran Church 817 Camden Avenue Salisbury MD 21801 United States;X-APPLE-RADIUS=500;X-TITLE=817 Camden Avenue:geo:-75.6063629,38.353845
END:VEVENT
BEGIN:VEVENT
DTSTART;TZID=America/New_York:20250709T120000
DTEND;TZID=America/New_York:20250709T130000
DTSTAMP:20260421T121512
CREATED:20250708T133449Z
LAST-MODIFIED:20250708T133449Z
UID:10001950-1752062400-1752066000@www.bethanylutheransalisburymd.com
SUMMARY:Prayer & Bible Study
DESCRIPTION:
URL:https://www.bethanylutheransalisburymd.com/calendar/prayer-bible-study-7/2025-07-09/
LOCATION:Bethany Lutheran Church\, 817 Camden Avenue\, Salisbury\, MD\, 21801\, United States
CATEGORIES:Bible Study
GEO:38.353845;-75.6063629
X-APPLE-STRUCTURED-LOCATION;VALUE=URI;X-ADDRESS=Bethany Lutheran Church 817 Camden Avenue Salisbury MD 21801 United States;X-APPLE-RADIUS=500;X-TITLE=817 Camden Avenue:geo:-75.6063629,38.353845
END:VEVENT
BEGIN:VEVENT
DTSTART;TZID=America/New_York:20250710T183000
DTEND;TZID=America/New_York:20250710T193000
DTSTAMP:20260421T121512
CREATED:20250708T133558Z
LAST-MODIFIED:20250708T133558Z
UID:10001963-1752172200-1752175800@www.bethanylutheransalisburymd.com
SUMMARY:Prayer & Bible Study
DESCRIPTION:
URL:https://www.bethanylutheransalisburymd.com/calendar/prayer-bible-study-8/2025-07-10/
LOCATION:Bethany Lutheran Church\, 817 Camden Avenue\, Salisbury\, MD\, 21801\, United States
CATEGORIES:Bible Study
GEO:38.353845;-75.6063629
X-APPLE-STRUCTURED-LOCATION;VALUE=URI;X-ADDRESS=Bethany Lutheran Church 817 Camden Avenue Salisbury MD 21801 United States;X-APPLE-RADIUS=500;X-TITLE=817 Camden Avenue:geo:-75.6063629,38.353845
END:VEVENT
END:VCALENDAR