BEGIN:VCALENDAR
VERSION:2.0
PRODID:-//Bethany Lutheran Church LCMS - ECPv6.15.20//NONSGML v1.0//EN
CALSCALE:GREGORIAN
METHOD:PUBLISH
X-WR-CALNAME:Bethany Lutheran Church LCMS
X-ORIGINAL-URL:https://www.bethanylutheransalisburymd.com
X-WR-CALDESC:Events for Bethany Lutheran Church LCMS
REFRESH-INTERVAL;VALUE=DURATION:PT1H
X-Robots-Tag:noindex
X-PUBLISHED-TTL:PT1H
BEGIN:VTIMEZONE
TZID:America/New_York
BEGIN:DAYLIGHT
TZOFFSETFROM:-0500
TZOFFSETTO:-0400
TZNAME:EDT
DTSTART:20230312T070000
END:DAYLIGHT
BEGIN:STANDARD
TZOFFSETFROM:-0400
TZOFFSETTO:-0500
TZNAME:EST
DTSTART:20231105T060000
END:STANDARD
BEGIN:DAYLIGHT
TZOFFSETFROM:-0500
TZOFFSETTO:-0400
TZNAME:EDT
DTSTART:20240310T070000
END:DAYLIGHT
BEGIN:STANDARD
TZOFFSETFROM:-0400
TZOFFSETTO:-0500
TZNAME:EST
DTSTART:20241103T060000
END:STANDARD
BEGIN:DAYLIGHT
TZOFFSETFROM:-0500
TZOFFSETTO:-0400
TZNAME:EDT
DTSTART:20250309T070000
END:DAYLIGHT
BEGIN:STANDARD
TZOFFSETFROM:-0400
TZOFFSETTO:-0500
TZNAME:EST
DTSTART:20251102T060000
END:STANDARD
BEGIN:DAYLIGHT
TZOFFSETFROM:-0500
TZOFFSETTO:-0400
TZNAME:EDT
DTSTART:20260308T070000
END:DAYLIGHT
BEGIN:STANDARD
TZOFFSETFROM:-0400
TZOFFSETTO:-0500
TZNAME:EST
DTSTART:20261101T060000
END:STANDARD
END:VTIMEZONE
BEGIN:VEVENT
DTSTART;VALUE=DATE:20241012
DTEND;VALUE=DATE:20241013
DTSTAMP:20260421T044058
CREATED:20240903T204628Z
LAST-MODIFIED:20241002T000840Z
UID:10000029-1728691200-1728777599@www.bethanylutheransalisburymd.com
SUMMARY:Fall Festival
DESCRIPTION:
URL:https://www.bethanylutheransalisburymd.com/calendar/church-picnic/
LOCATION:Bethany Lutheran Church\, 817 Camden Avenue\, Salisbury\, MD\, 21801\, United States
GEO:38.353845;-75.6063629
X-APPLE-STRUCTURED-LOCATION;VALUE=URI;X-ADDRESS=Bethany Lutheran Church 817 Camden Avenue Salisbury MD 21801 United States;X-APPLE-RADIUS=500;X-TITLE=817 Camden Avenue:geo:-75.6063629,38.353845
END:VEVENT
BEGIN:VEVENT
DTSTART;TZID=America/New_York:20241103T093000
DTEND;TZID=America/New_York:20241103T103000
DTSTAMP:20260421T044058
CREATED:20241102T161230Z
LAST-MODIFIED:20241102T161230Z
UID:10000112-1730626200-1730629800@www.bethanylutheransalisburymd.com
SUMMARY:Adult Sunday School
DESCRIPTION:
URL:https://www.bethanylutheransalisburymd.com/calendar/adult-sunday-school-6-2/2024-11-03/
LOCATION:Bethany Lutheran Church\, 817 Camden Avenue\, Salisbury\, MD\, 21801\, United States
CATEGORIES:Sunday School
GEO:38.353845;-75.6063629
X-APPLE-STRUCTURED-LOCATION;VALUE=URI;X-ADDRESS=Bethany Lutheran Church 817 Camden Avenue Salisbury MD 21801 United States;X-APPLE-RADIUS=500;X-TITLE=817 Camden Avenue:geo:-75.6063629,38.353845
END:VEVENT
BEGIN:VEVENT
DTSTART;TZID=America/New_York:20241103T100000
DTEND;TZID=America/New_York:20241103T110000
DTSTAMP:20260421T044058
CREATED:20241102T161135Z
LAST-MODIFIED:20241102T161135Z
UID:10000057-1730628000-1730631600@www.bethanylutheransalisburymd.com
SUMMARY:Children's Sunday School
DESCRIPTION:
URL:https://www.bethanylutheransalisburymd.com/calendar/childrens-sunday-school-5-2/2024-11-03/
LOCATION:Bethany Lutheran Church\, 817 Camden Avenue\, Salisbury\, MD\, 21801\, United States
CATEGORIES:Sunday School
GEO:38.353845;-75.6063629
X-APPLE-STRUCTURED-LOCATION;VALUE=URI;X-ADDRESS=Bethany Lutheran Church 817 Camden Avenue Salisbury MD 21801 United States;X-APPLE-RADIUS=500;X-TITLE=817 Camden Avenue:geo:-75.6063629,38.353845
END:VEVENT
BEGIN:VEVENT
DTSTART;TZID=America/New_York:20241106T120000
DTEND;TZID=America/New_York:20241106T130000
DTSTAMP:20260421T044058
CREATED:20241102T161609Z
LAST-MODIFIED:20241102T161610Z
UID:10000336-1730894400-1730898000@www.bethanylutheransalisburymd.com
SUMMARY:Prayer & Bible Study WE
DESCRIPTION:
URL:https://www.bethanylutheransalisburymd.com/calendar/prayer-bible-study-we-2/2024-11-06/
LOCATION:Bethany Lutheran Church\, 817 Camden Avenue\, Salisbury\, MD\, 21801\, United States
CATEGORIES:Bible Study
GEO:38.353845;-75.6063629
X-APPLE-STRUCTURED-LOCATION;VALUE=URI;X-ADDRESS=Bethany Lutheran Church 817 Camden Avenue Salisbury MD 21801 United States;X-APPLE-RADIUS=500;X-TITLE=817 Camden Avenue:geo:-75.6063629,38.353845
END:VEVENT
BEGIN:VEVENT
DTSTART;TZID=America/New_York:20241107T183000
DTEND;TZID=America/New_York:20241107T193000
DTSTAMP:20260421T044058
CREATED:20241102T161522Z
LAST-MODIFIED:20241102T161522Z
UID:10000223-1731004200-1731007800@www.bethanylutheransalisburymd.com
SUMMARY:Prayer & Bible Study TH
DESCRIPTION:
URL:https://www.bethanylutheransalisburymd.com/calendar/prayer-bible-study-2-5-2/2024-11-07/
LOCATION:Bethany Lutheran Church\, 817 Camden Avenue\, Salisbury\, MD\, 21801\, United States
CATEGORIES:Bible Study
GEO:38.353845;-75.6063629
X-APPLE-STRUCTURED-LOCATION;VALUE=URI;X-ADDRESS=Bethany Lutheran Church 817 Camden Avenue Salisbury MD 21801 United States;X-APPLE-RADIUS=500;X-TITLE=817 Camden Avenue:geo:-75.6063629,38.353845
END:VEVENT
BEGIN:VEVENT
DTSTART;TZID=America/New_York:20241109T140000
DTEND;TZID=America/New_York:20241109T150000
DTSTAMP:20260421T044058
CREATED:20240903T204704Z
LAST-MODIFIED:20241102T161422Z
UID:10000030-1731160800-1731164400@www.bethanylutheransalisburymd.com
SUMMARY:Senior Social
DESCRIPTION:
URL:https://www.bethanylutheransalisburymd.com/calendar/senior-social/
LOCATION:Bethany Lutheran Church\, 817 Camden Avenue\, Salisbury\, MD\, 21801\, United States
CATEGORIES:Senior Social
GEO:38.353845;-75.6063629
X-APPLE-STRUCTURED-LOCATION;VALUE=URI;X-ADDRESS=Bethany Lutheran Church 817 Camden Avenue Salisbury MD 21801 United States;X-APPLE-RADIUS=500;X-TITLE=817 Camden Avenue:geo:-75.6063629,38.353845
END:VEVENT
BEGIN:VEVENT
DTSTART;TZID=America/New_York:20241110T093000
DTEND;TZID=America/New_York:20241110T103000
DTSTAMP:20260421T044058
CREATED:20241102T161230Z
LAST-MODIFIED:20241102T161230Z
UID:10000113-1731231000-1731234600@www.bethanylutheransalisburymd.com
SUMMARY:Adult Sunday School
DESCRIPTION:
URL:https://www.bethanylutheransalisburymd.com/calendar/adult-sunday-school-6-2/2024-11-10/
LOCATION:Bethany Lutheran Church\, 817 Camden Avenue\, Salisbury\, MD\, 21801\, United States
CATEGORIES:Sunday School
GEO:38.353845;-75.6063629
X-APPLE-STRUCTURED-LOCATION;VALUE=URI;X-ADDRESS=Bethany Lutheran Church 817 Camden Avenue Salisbury MD 21801 United States;X-APPLE-RADIUS=500;X-TITLE=817 Camden Avenue:geo:-75.6063629,38.353845
END:VEVENT
BEGIN:VEVENT
DTSTART;TZID=America/New_York:20241110T100000
DTEND;TZID=America/New_York:20241110T110000
DTSTAMP:20260421T044058
CREATED:20241102T161135Z
LAST-MODIFIED:20241102T161135Z
UID:10000058-1731232800-1731236400@www.bethanylutheransalisburymd.com
SUMMARY:Children's Sunday School
DESCRIPTION:
URL:https://www.bethanylutheransalisburymd.com/calendar/childrens-sunday-school-5-2/2024-11-10/
LOCATION:Bethany Lutheran Church\, 817 Camden Avenue\, Salisbury\, MD\, 21801\, United States
CATEGORIES:Sunday School
GEO:38.353845;-75.6063629
X-APPLE-STRUCTURED-LOCATION;VALUE=URI;X-ADDRESS=Bethany Lutheran Church 817 Camden Avenue Salisbury MD 21801 United States;X-APPLE-RADIUS=500;X-TITLE=817 Camden Avenue:geo:-75.6063629,38.353845
END:VEVENT
BEGIN:VEVENT
DTSTART;TZID=America/New_York:20241112T110000
DTEND;TZID=America/New_York:20241112T120000
DTSTAMP:20260421T044058
CREATED:20240903T204505Z
LAST-MODIFIED:20241102T160828Z
UID:10000028-1731409200-1731412800@www.bethanylutheransalisburymd.com
SUMMARY:Martha Circle
DESCRIPTION:
URL:https://www.bethanylutheransalisburymd.com/calendar/martha-circle/
LOCATION:Bethany Lutheran Church\, 817 Camden Avenue\, Salisbury\, MD\, 21801\, United States
CATEGORIES:Martha Circle
GEO:38.353845;-75.6063629
X-APPLE-STRUCTURED-LOCATION;VALUE=URI;X-ADDRESS=Bethany Lutheran Church 817 Camden Avenue Salisbury MD 21801 United States;X-APPLE-RADIUS=500;X-TITLE=817 Camden Avenue:geo:-75.6063629,38.353845
END:VEVENT
BEGIN:VEVENT
DTSTART;TZID=America/New_York:20241113T120000
DTEND;TZID=America/New_York:20241113T130000
DTSTAMP:20260421T044058
CREATED:20241102T161609Z
LAST-MODIFIED:20241102T161610Z
UID:10000337-1731499200-1731502800@www.bethanylutheransalisburymd.com
SUMMARY:Prayer & Bible Study WE
DESCRIPTION:
URL:https://www.bethanylutheransalisburymd.com/calendar/prayer-bible-study-we-2/2024-11-13/
LOCATION:Bethany Lutheran Church\, 817 Camden Avenue\, Salisbury\, MD\, 21801\, United States
CATEGORIES:Bible Study
GEO:38.353845;-75.6063629
X-APPLE-STRUCTURED-LOCATION;VALUE=URI;X-ADDRESS=Bethany Lutheran Church 817 Camden Avenue Salisbury MD 21801 United States;X-APPLE-RADIUS=500;X-TITLE=817 Camden Avenue:geo:-75.6063629,38.353845
END:VEVENT
BEGIN:VEVENT
DTSTART;TZID=America/New_York:20241114T183000
DTEND;TZID=America/New_York:20241114T193000
DTSTAMP:20260421T044058
CREATED:20241102T161522Z
LAST-MODIFIED:20241102T161522Z
UID:10000224-1731609000-1731612600@www.bethanylutheransalisburymd.com
SUMMARY:Prayer & Bible Study TH
DESCRIPTION:
URL:https://www.bethanylutheransalisburymd.com/calendar/prayer-bible-study-2-5-2/2024-11-14/
LOCATION:Bethany Lutheran Church\, 817 Camden Avenue\, Salisbury\, MD\, 21801\, United States
CATEGORIES:Bible Study
GEO:38.353845;-75.6063629
X-APPLE-STRUCTURED-LOCATION;VALUE=URI;X-ADDRESS=Bethany Lutheran Church 817 Camden Avenue Salisbury MD 21801 United States;X-APPLE-RADIUS=500;X-TITLE=817 Camden Avenue:geo:-75.6063629,38.353845
END:VEVENT
BEGIN:VEVENT
DTSTART;TZID=America/New_York:20241117T093000
DTEND;TZID=America/New_York:20241117T103000
DTSTAMP:20260421T044058
CREATED:20241102T161230Z
LAST-MODIFIED:20241102T161230Z
UID:10000114-1731835800-1731839400@www.bethanylutheransalisburymd.com
SUMMARY:Adult Sunday School
DESCRIPTION:
URL:https://www.bethanylutheransalisburymd.com/calendar/adult-sunday-school-6-2/2024-11-17/
LOCATION:Bethany Lutheran Church\, 817 Camden Avenue\, Salisbury\, MD\, 21801\, United States
CATEGORIES:Sunday School
GEO:38.353845;-75.6063629
X-APPLE-STRUCTURED-LOCATION;VALUE=URI;X-ADDRESS=Bethany Lutheran Church 817 Camden Avenue Salisbury MD 21801 United States;X-APPLE-RADIUS=500;X-TITLE=817 Camden Avenue:geo:-75.6063629,38.353845
END:VEVENT
BEGIN:VEVENT
DTSTART;TZID=America/New_York:20241117T100000
DTEND;TZID=America/New_York:20241117T110000
DTSTAMP:20260421T044058
CREATED:20241102T161135Z
LAST-MODIFIED:20241102T161135Z
UID:10000059-1731837600-1731841200@www.bethanylutheransalisburymd.com
SUMMARY:Children's Sunday School
DESCRIPTION:
URL:https://www.bethanylutheransalisburymd.com/calendar/childrens-sunday-school-5-2/2024-11-17/
LOCATION:Bethany Lutheran Church\, 817 Camden Avenue\, Salisbury\, MD\, 21801\, United States
CATEGORIES:Sunday School
GEO:38.353845;-75.6063629
X-APPLE-STRUCTURED-LOCATION;VALUE=URI;X-ADDRESS=Bethany Lutheran Church 817 Camden Avenue Salisbury MD 21801 United States;X-APPLE-RADIUS=500;X-TITLE=817 Camden Avenue:geo:-75.6063629,38.353845
END:VEVENT
BEGIN:VEVENT
DTSTART;TZID=America/New_York:20241117T123000
DTEND;TZID=America/New_York:20241117T133000
DTSTAMP:20260421T044058
CREATED:20241102T161925Z
LAST-MODIFIED:20241102T164008Z
UID:10000390-1731846600-1731850200@www.bethanylutheransalisburymd.com
SUMMARY:Voters' Meeting
DESCRIPTION:
URL:https://www.bethanylutheransalisburymd.com/calendar/voters-meeting/
LOCATION:Bethany Lutheran Church\, 817 Camden Avenue\, Salisbury\, MD\, 21801\, United States
CATEGORIES:Voters
GEO:38.353845;-75.6063629
X-APPLE-STRUCTURED-LOCATION;VALUE=URI;X-ADDRESS=Bethany Lutheran Church 817 Camden Avenue Salisbury MD 21801 United States;X-APPLE-RADIUS=500;X-TITLE=817 Camden Avenue:geo:-75.6063629,38.353845
END:VEVENT
BEGIN:VEVENT
DTSTART;TZID=America/New_York:20241119T123000
DTEND;TZID=America/New_York:20241119T170000
DTSTAMP:20260421T044058
CREATED:20240903T204740Z
LAST-MODIFIED:20241102T160711Z
UID:10000031-1732019400-1732035600@www.bethanylutheransalisburymd.com
SUMMARY:Food Bank Drop/Distribution
DESCRIPTION:
URL:https://www.bethanylutheransalisburymd.com/calendar/food-bank-drop-distribution/
LOCATION:Bethany Lutheran Church\, 817 Camden Avenue\, Salisbury\, MD\, 21801\, United States
CATEGORIES:Food Bank
GEO:38.353845;-75.6063629
X-APPLE-STRUCTURED-LOCATION;VALUE=URI;X-ADDRESS=Bethany Lutheran Church 817 Camden Avenue Salisbury MD 21801 United States;X-APPLE-RADIUS=500;X-TITLE=817 Camden Avenue:geo:-75.6063629,38.353845
END:VEVENT
BEGIN:VEVENT
DTSTART;TZID=America/New_York:20241120T120000
DTEND;TZID=America/New_York:20241120T130000
DTSTAMP:20260421T044058
CREATED:20241102T161609Z
LAST-MODIFIED:20241102T161610Z
UID:10000338-1732104000-1732107600@www.bethanylutheransalisburymd.com
SUMMARY:Prayer & Bible Study WE
DESCRIPTION:
URL:https://www.bethanylutheransalisburymd.com/calendar/prayer-bible-study-we-2/2024-11-20/
LOCATION:Bethany Lutheran Church\, 817 Camden Avenue\, Salisbury\, MD\, 21801\, United States
CATEGORIES:Bible Study
GEO:38.353845;-75.6063629
X-APPLE-STRUCTURED-LOCATION;VALUE=URI;X-ADDRESS=Bethany Lutheran Church 817 Camden Avenue Salisbury MD 21801 United States;X-APPLE-RADIUS=500;X-TITLE=817 Camden Avenue:geo:-75.6063629,38.353845
END:VEVENT
BEGIN:VEVENT
DTSTART;TZID=America/New_York:20241121T183000
DTEND;TZID=America/New_York:20241121T193000
DTSTAMP:20260421T044058
CREATED:20241102T161522Z
LAST-MODIFIED:20241102T161522Z
UID:10000225-1732213800-1732217400@www.bethanylutheransalisburymd.com
SUMMARY:Prayer & Bible Study TH
DESCRIPTION:
URL:https://www.bethanylutheransalisburymd.com/calendar/prayer-bible-study-2-5-2/2024-11-21/
LOCATION:Bethany Lutheran Church\, 817 Camden Avenue\, Salisbury\, MD\, 21801\, United States
CATEGORIES:Bible Study
GEO:38.353845;-75.6063629
X-APPLE-STRUCTURED-LOCATION;VALUE=URI;X-ADDRESS=Bethany Lutheran Church 817 Camden Avenue Salisbury MD 21801 United States;X-APPLE-RADIUS=500;X-TITLE=817 Camden Avenue:geo:-75.6063629,38.353845
END:VEVENT
BEGIN:VEVENT
DTSTART;TZID=America/New_York:20241124T093000
DTEND;TZID=America/New_York:20241124T103000
DTSTAMP:20260421T044058
CREATED:20241102T161230Z
LAST-MODIFIED:20241102T161230Z
UID:10000115-1732440600-1732444200@www.bethanylutheransalisburymd.com
SUMMARY:Adult Sunday School
DESCRIPTION:
URL:https://www.bethanylutheransalisburymd.com/calendar/adult-sunday-school-6-2/2024-11-24/
LOCATION:Bethany Lutheran Church\, 817 Camden Avenue\, Salisbury\, MD\, 21801\, United States
CATEGORIES:Sunday School
GEO:38.353845;-75.6063629
X-APPLE-STRUCTURED-LOCATION;VALUE=URI;X-ADDRESS=Bethany Lutheran Church 817 Camden Avenue Salisbury MD 21801 United States;X-APPLE-RADIUS=500;X-TITLE=817 Camden Avenue:geo:-75.6063629,38.353845
END:VEVENT
BEGIN:VEVENT
DTSTART;TZID=America/New_York:20241124T100000
DTEND;TZID=America/New_York:20241124T110000
DTSTAMP:20260421T044058
CREATED:20241102T161135Z
LAST-MODIFIED:20241102T161135Z
UID:10000060-1732442400-1732446000@www.bethanylutheransalisburymd.com
SUMMARY:Children's Sunday School
DESCRIPTION:
URL:https://www.bethanylutheransalisburymd.com/calendar/childrens-sunday-school-5-2/2024-11-24/
LOCATION:Bethany Lutheran Church\, 817 Camden Avenue\, Salisbury\, MD\, 21801\, United States
CATEGORIES:Sunday School
GEO:38.353845;-75.6063629
X-APPLE-STRUCTURED-LOCATION;VALUE=URI;X-ADDRESS=Bethany Lutheran Church 817 Camden Avenue Salisbury MD 21801 United States;X-APPLE-RADIUS=500;X-TITLE=817 Camden Avenue:geo:-75.6063629,38.353845
END:VEVENT
BEGIN:VEVENT
DTSTART;TZID=America/New_York:20241127T120000
DTEND;TZID=America/New_York:20241127T130000
DTSTAMP:20260421T044058
CREATED:20241102T161609Z
LAST-MODIFIED:20241102T161610Z
UID:10000339-1732708800-1732712400@www.bethanylutheransalisburymd.com
SUMMARY:Prayer & Bible Study WE
DESCRIPTION:
URL:https://www.bethanylutheransalisburymd.com/calendar/prayer-bible-study-we-2/2024-11-27/
LOCATION:Bethany Lutheran Church\, 817 Camden Avenue\, Salisbury\, MD\, 21801\, United States
CATEGORIES:Bible Study
GEO:38.353845;-75.6063629
X-APPLE-STRUCTURED-LOCATION;VALUE=URI;X-ADDRESS=Bethany Lutheran Church 817 Camden Avenue Salisbury MD 21801 United States;X-APPLE-RADIUS=500;X-TITLE=817 Camden Avenue:geo:-75.6063629,38.353845
END:VEVENT
BEGIN:VEVENT
DTSTART;TZID=America/New_York:20241128T183000
DTEND;TZID=America/New_York:20241128T193000
DTSTAMP:20260421T044058
CREATED:20241102T161522Z
LAST-MODIFIED:20241102T161522Z
UID:10000226-1732818600-1732822200@www.bethanylutheransalisburymd.com
SUMMARY:Prayer & Bible Study TH
DESCRIPTION:
URL:https://www.bethanylutheransalisburymd.com/calendar/prayer-bible-study-2-5-2/2024-11-28/
LOCATION:Bethany Lutheran Church\, 817 Camden Avenue\, Salisbury\, MD\, 21801\, United States
CATEGORIES:Bible Study
GEO:38.353845;-75.6063629
X-APPLE-STRUCTURED-LOCATION;VALUE=URI;X-ADDRESS=Bethany Lutheran Church 817 Camden Avenue Salisbury MD 21801 United States;X-APPLE-RADIUS=500;X-TITLE=817 Camden Avenue:geo:-75.6063629,38.353845
END:VEVENT
BEGIN:VEVENT
DTSTART;TZID=America/New_York:20250305T120000
DTEND;TZID=America/New_York:20250305T130000
DTSTAMP:20260421T044058
CREATED:20250310T004326Z
LAST-MODIFIED:20250310T004326Z
UID:10000619-1741176000-1741179600@www.bethanylutheransalisburymd.com
SUMMARY:Mid-Week Lenten Service
DESCRIPTION:
URL:https://www.bethanylutheransalisburymd.com/calendar/mid-week-lenten-service/
LOCATION:Bethany Lutheran Church\, 817 Camden Avenue\, Salisbury\, MD\, 21801\, United States
CATEGORIES:Lenten Service
GEO:38.353845;-75.6063629
X-APPLE-STRUCTURED-LOCATION;VALUE=URI;X-ADDRESS=Bethany Lutheran Church 817 Camden Avenue Salisbury MD 21801 United States;X-APPLE-RADIUS=500;X-TITLE=817 Camden Avenue:geo:-75.6063629,38.353845
END:VEVENT
BEGIN:VEVENT
DTSTART;TZID=America/New_York:20250306T120000
DTEND;TZID=America/New_York:20250306T130000
DTSTAMP:20260421T044058
CREATED:20250310T004441Z
LAST-MODIFIED:20250310T004441Z
UID:10000675-1741262400-1741266000@www.bethanylutheransalisburymd.com
SUMMARY:Prayer & Bible Study
DESCRIPTION:
URL:https://www.bethanylutheransalisburymd.com/calendar/prayer-bible-study/
LOCATION:Bethany Lutheran Church\, 817 Camden Avenue\, Salisbury\, MD\, 21801\, United States
CATEGORIES:Bible Study
GEO:38.353845;-75.6063629
X-APPLE-STRUCTURED-LOCATION;VALUE=URI;X-ADDRESS=Bethany Lutheran Church 817 Camden Avenue Salisbury MD 21801 United States;X-APPLE-RADIUS=500;X-TITLE=817 Camden Avenue:geo:-75.6063629,38.353845
END:VEVENT
BEGIN:VEVENT
DTSTART;TZID=America/New_York:20250308T140000
DTEND;TZID=America/New_York:20250308T150000
DTSTAMP:20260421T044058
CREATED:20250310T004547Z
LAST-MODIFIED:20250310T004711Z
UID:10000731-1741442400-1741446000@www.bethanylutheransalisburymd.com
SUMMARY:Senior Social
DESCRIPTION:
URL:https://www.bethanylutheransalisburymd.com/calendar/senior-social-2/
LOCATION:Bethany Lutheran Church\, 817 Camden Avenue\, Salisbury\, MD\, 21801\, United States
CATEGORIES:Martha Circle,Senior Social
GEO:38.353845;-75.6063629
X-APPLE-STRUCTURED-LOCATION;VALUE=URI;X-ADDRESS=Bethany Lutheran Church 817 Camden Avenue Salisbury MD 21801 United States;X-APPLE-RADIUS=500;X-TITLE=817 Camden Avenue:geo:-75.6063629,38.353845
END:VEVENT
BEGIN:VEVENT
DTSTART;TZID=America/New_York:20250311T110000
DTEND;TZID=America/New_York:20250311T120000
DTSTAMP:20260421T044058
CREATED:20250310T004641Z
LAST-MODIFIED:20250310T004641Z
UID:10000732-1741690800-1741694400@www.bethanylutheransalisburymd.com
SUMMARY:Martha Circle
DESCRIPTION:
URL:https://www.bethanylutheransalisburymd.com/calendar/martha-circle-2/
LOCATION:Bethany Lutheran Church\, 817 Camden Avenue\, Salisbury\, MD\, 21801\, United States
CATEGORIES:Martha Circle
GEO:38.353845;-75.6063629
X-APPLE-STRUCTURED-LOCATION;VALUE=URI;X-ADDRESS=Bethany Lutheran Church 817 Camden Avenue Salisbury MD 21801 United States;X-APPLE-RADIUS=500;X-TITLE=817 Camden Avenue:geo:-75.6063629,38.353845
END:VEVENT
BEGIN:VEVENT
DTSTART;TZID=America/New_York:20250312T120000
DTEND;TZID=America/New_York:20250312T130000
DTSTAMP:20260421T044058
CREATED:20250310T010209Z
LAST-MODIFIED:20250310T010210Z
UID:10000620-1741780800-1741784400@www.bethanylutheransalisburymd.com
SUMMARY:Mid-Week Lenten Service
DESCRIPTION:
URL:https://www.bethanylutheransalisburymd.com/calendar/mid-week-lenten-service-2/2025-03-12/
LOCATION:Bethany Lutheran Church\, 817 Camden Avenue\, Salisbury\, MD\, 21801\, United States
CATEGORIES:Lenten Service
GEO:38.353845;-75.6063629
X-APPLE-STRUCTURED-LOCATION;VALUE=URI;X-ADDRESS=Bethany Lutheran Church 817 Camden Avenue Salisbury MD 21801 United States;X-APPLE-RADIUS=500;X-TITLE=817 Camden Avenue:geo:-75.6063629,38.353845
END:VEVENT
BEGIN:VEVENT
DTSTART;TZID=America/New_York:20250313T183000
DTEND;TZID=America/New_York:20250313T193000
DTSTAMP:20260421T044058
CREATED:20250310T010107Z
LAST-MODIFIED:20250310T010659Z
UID:10000745-1741890600-1741894200@www.bethanylutheransalisburymd.com
SUMMARY:Prayer & Bible Study
DESCRIPTION:
URL:https://www.bethanylutheransalisburymd.com/calendar/prayer-bible-study-2/2025-03-13/
LOCATION:Bethany Lutheran Church\, 817 Camden Avenue\, Salisbury\, MD\, 21801\, United States
CATEGORIES:Bible Study
GEO:38.353845;-75.6063629
X-APPLE-STRUCTURED-LOCATION;VALUE=URI;X-ADDRESS=Bethany Lutheran Church 817 Camden Avenue Salisbury MD 21801 United States;X-APPLE-RADIUS=500;X-TITLE=817 Camden Avenue:geo:-75.6063629,38.353845
END:VEVENT
BEGIN:VEVENT
DTSTART;TZID=America/New_York:20250316T110000
DTEND;TZID=America/New_York:20250316T120000
DTSTAMP:20260421T044058
CREATED:20250310T005624Z
LAST-MODIFIED:20250310T005624Z
UID:10000738-1742122800-1742126400@www.bethanylutheransalisburymd.com
SUMMARY:Church Potluck
DESCRIPTION:
URL:https://www.bethanylutheransalisburymd.com/calendar/church-potluck/
LOCATION:Bethany Lutheran Church\, 817 Camden Avenue\, Salisbury\, MD\, 21801\, United States
CATEGORIES:Potluck Dinner
GEO:38.353845;-75.6063629
X-APPLE-STRUCTURED-LOCATION;VALUE=URI;X-ADDRESS=Bethany Lutheran Church 817 Camden Avenue Salisbury MD 21801 United States;X-APPLE-RADIUS=500;X-TITLE=817 Camden Avenue:geo:-75.6063629,38.353845
END:VEVENT
BEGIN:VEVENT
DTSTART;VALUE=DATE:20250317
DTEND;VALUE=DATE:20250318
DTSTAMP:20260421T044058
CREATED:20250310T005708Z
LAST-MODIFIED:20250310T005708Z
UID:10000739-1742169600-1742255999@www.bethanylutheransalisburymd.com
SUMMARY:Happy St. Patrick's Day
DESCRIPTION:
URL:https://www.bethanylutheransalisburymd.com/calendar/happy-st-patricks-day/
LOCATION:Bethany Lutheran Church\, 817 Camden Avenue\, Salisbury\, MD\, 21801\, United States
GEO:38.353845;-75.6063629
X-APPLE-STRUCTURED-LOCATION;VALUE=URI;X-ADDRESS=Bethany Lutheran Church 817 Camden Avenue Salisbury MD 21801 United States;X-APPLE-RADIUS=500;X-TITLE=817 Camden Avenue:geo:-75.6063629,38.353845
END:VEVENT
BEGIN:VEVENT
DTSTART;TZID=America/New_York:20250318T123000
DTEND;TZID=America/New_York:20250318T170000
DTSTAMP:20260421T044058
CREATED:20250310T005745Z
LAST-MODIFIED:20250310T005745Z
UID:10000740-1742301000-1742317200@www.bethanylutheransalisburymd.com
SUMMARY:Food Bank Drop/Distribution
DESCRIPTION:
URL:https://www.bethanylutheransalisburymd.com/calendar/food-bank-drop-distribution-2/
LOCATION:Bethany Lutheran Church\, 817 Camden Avenue\, Salisbury\, MD\, 21801\, United States
CATEGORIES:Food Bank
GEO:38.353845;-75.6063629
X-APPLE-STRUCTURED-LOCATION;VALUE=URI;X-ADDRESS=Bethany Lutheran Church 817 Camden Avenue Salisbury MD 21801 United States;X-APPLE-RADIUS=500;X-TITLE=817 Camden Avenue:geo:-75.6063629,38.353845
END:VEVENT
END:VCALENDAR