BEGIN:VCALENDAR
VERSION:2.0
PRODID:-//Bethany Lutheran Church LCMS - ECPv6.15.20//NONSGML v1.0//EN
CALSCALE:GREGORIAN
METHOD:PUBLISH
X-ORIGINAL-URL:https://www.bethanylutheransalisburymd.com
X-WR-CALDESC:Events for Bethany Lutheran Church LCMS
REFRESH-INTERVAL;VALUE=DURATION:PT1H
X-Robots-Tag:noindex
X-PUBLISHED-TTL:PT1H
BEGIN:VTIMEZONE
TZID:America/New_York
BEGIN:DAYLIGHT
TZOFFSETFROM:-0500
TZOFFSETTO:-0400
TZNAME:EDT
DTSTART:20240310T070000
END:DAYLIGHT
BEGIN:STANDARD
TZOFFSETFROM:-0400
TZOFFSETTO:-0500
TZNAME:EST
DTSTART:20241103T060000
END:STANDARD
BEGIN:DAYLIGHT
TZOFFSETFROM:-0500
TZOFFSETTO:-0400
TZNAME:EDT
DTSTART:20250309T070000
END:DAYLIGHT
BEGIN:STANDARD
TZOFFSETFROM:-0400
TZOFFSETTO:-0500
TZNAME:EST
DTSTART:20251102T060000
END:STANDARD
BEGIN:DAYLIGHT
TZOFFSETFROM:-0500
TZOFFSETTO:-0400
TZNAME:EDT
DTSTART:20260308T070000
END:DAYLIGHT
BEGIN:STANDARD
TZOFFSETFROM:-0400
TZOFFSETTO:-0500
TZNAME:EST
DTSTART:20261101T060000
END:STANDARD
BEGIN:DAYLIGHT
TZOFFSETFROM:-0500
TZOFFSETTO:-0400
TZNAME:EDT
DTSTART:20270314T070000
END:DAYLIGHT
BEGIN:STANDARD
TZOFFSETFROM:-0400
TZOFFSETTO:-0500
TZNAME:EST
DTSTART:20271107T060000
END:STANDARD
END:VTIMEZONE
BEGIN:VEVENT
DTSTART;TZID=America/New_York:20260419T110000
DTEND;TZID=America/New_York:20260419T120000
DTSTAMP:20260421T180748
CREATED:20260401T031245Z
LAST-MODIFIED:20260401T031245Z
UID:10002507-1776596400-1776600000@www.bethanylutheransalisburymd.com
SUMMARY:Worship Service 11am
DESCRIPTION:
URL:https://www.bethanylutheransalisburymd.com/calendar/worship-service-11am-6/2026-04-19/
LOCATION:Bethany Lutheran Church\, 817 Camden Avenue\, Salisbury\, MD\, 21801\, United States
CATEGORIES:Worship 11 am
GEO:38.353845;-75.6063629
X-APPLE-STRUCTURED-LOCATION;VALUE=URI;X-ADDRESS=Bethany Lutheran Church 817 Camden Avenue Salisbury MD 21801 United States;X-APPLE-RADIUS=500;X-TITLE=817 Camden Avenue:geo:-75.6063629,38.353845
END:VEVENT
BEGIN:VEVENT
DTSTART;TZID=America/New_York:20260412T110000
DTEND;TZID=America/New_York:20260412T120000
DTSTAMP:20260421T180748
CREATED:20260401T031245Z
LAST-MODIFIED:20260401T031245Z
UID:10002506-1775991600-1775995200@www.bethanylutheransalisburymd.com
SUMMARY:Worship Service 11am
DESCRIPTION:
URL:https://www.bethanylutheransalisburymd.com/calendar/worship-service-11am-6/2026-04-12/
LOCATION:Bethany Lutheran Church\, 817 Camden Avenue\, Salisbury\, MD\, 21801\, United States
CATEGORIES:Worship 11 am
GEO:38.353845;-75.6063629
X-APPLE-STRUCTURED-LOCATION;VALUE=URI;X-ADDRESS=Bethany Lutheran Church 817 Camden Avenue Salisbury MD 21801 United States;X-APPLE-RADIUS=500;X-TITLE=817 Camden Avenue:geo:-75.6063629,38.353845
END:VEVENT
BEGIN:VEVENT
DTSTART;TZID=America/New_York:20260405T110000
DTEND;TZID=America/New_York:20260405T120000
DTSTAMP:20260421T180748
CREATED:20260401T031245Z
LAST-MODIFIED:20260401T031245Z
UID:10002505-1775386800-1775390400@www.bethanylutheransalisburymd.com
SUMMARY:Worship Service 11am
DESCRIPTION:
URL:https://www.bethanylutheransalisburymd.com/calendar/worship-service-11am-6/2026-04-05/
LOCATION:Bethany Lutheran Church\, 817 Camden Avenue\, Salisbury\, MD\, 21801\, United States
CATEGORIES:Worship 11 am
GEO:38.353845;-75.6063629
X-APPLE-STRUCTURED-LOCATION;VALUE=URI;X-ADDRESS=Bethany Lutheran Church 817 Camden Avenue Salisbury MD 21801 United States;X-APPLE-RADIUS=500;X-TITLE=817 Camden Avenue:geo:-75.6063629,38.353845
END:VEVENT
BEGIN:VEVENT
DTSTART;TZID=America/New_York:20260329T110000
DTEND;TZID=America/New_York:20260329T120000
DTSTAMP:20260421T180748
CREATED:20260301T213249Z
LAST-MODIFIED:20260301T213249Z
UID:10002483-1774782000-1774785600@www.bethanylutheransalisburymd.com
SUMMARY:Worship Service 11am
DESCRIPTION:
URL:https://www.bethanylutheransalisburymd.com/calendar/worship-service-11am-5/2026-03-29/
LOCATION:Bethany Lutheran Church\, 817 Camden Avenue\, Salisbury\, MD\, 21801\, United States
CATEGORIES:Worship 11 am
GEO:38.353845;-75.6063629
X-APPLE-STRUCTURED-LOCATION;VALUE=URI;X-ADDRESS=Bethany Lutheran Church 817 Camden Avenue Salisbury MD 21801 United States;X-APPLE-RADIUS=500;X-TITLE=817 Camden Avenue:geo:-75.6063629,38.353845
END:VEVENT
BEGIN:VEVENT
DTSTART;TZID=America/New_York:20260322T110000
DTEND;TZID=America/New_York:20260322T120000
DTSTAMP:20260421T180748
CREATED:20260301T213249Z
LAST-MODIFIED:20260301T213249Z
UID:10002482-1774177200-1774180800@www.bethanylutheransalisburymd.com
SUMMARY:Worship Service 11am
DESCRIPTION:
URL:https://www.bethanylutheransalisburymd.com/calendar/worship-service-11am-5/2026-03-22/
LOCATION:Bethany Lutheran Church\, 817 Camden Avenue\, Salisbury\, MD\, 21801\, United States
CATEGORIES:Worship 11 am
GEO:38.353845;-75.6063629
X-APPLE-STRUCTURED-LOCATION;VALUE=URI;X-ADDRESS=Bethany Lutheran Church 817 Camden Avenue Salisbury MD 21801 United States;X-APPLE-RADIUS=500;X-TITLE=817 Camden Avenue:geo:-75.6063629,38.353845
END:VEVENT
BEGIN:VEVENT
DTSTART;TZID=America/New_York:20260315T110000
DTEND;TZID=America/New_York:20260315T120000
DTSTAMP:20260421T180748
CREATED:20260301T213249Z
LAST-MODIFIED:20260301T213249Z
UID:10002481-1773572400-1773576000@www.bethanylutheransalisburymd.com
SUMMARY:Worship Service 11am
DESCRIPTION:
URL:https://www.bethanylutheransalisburymd.com/calendar/worship-service-11am-5/2026-03-15/
LOCATION:Bethany Lutheran Church\, 817 Camden Avenue\, Salisbury\, MD\, 21801\, United States
CATEGORIES:Worship 11 am
GEO:38.353845;-75.6063629
X-APPLE-STRUCTURED-LOCATION;VALUE=URI;X-ADDRESS=Bethany Lutheran Church 817 Camden Avenue Salisbury MD 21801 United States;X-APPLE-RADIUS=500;X-TITLE=817 Camden Avenue:geo:-75.6063629,38.353845
END:VEVENT
BEGIN:VEVENT
DTSTART;TZID=America/New_York:20260308T110000
DTEND;TZID=America/New_York:20260308T120000
DTSTAMP:20260421T180748
CREATED:20260301T213249Z
LAST-MODIFIED:20260301T213249Z
UID:10002480-1772967600-1772971200@www.bethanylutheransalisburymd.com
SUMMARY:Worship Service 11am
DESCRIPTION:
URL:https://www.bethanylutheransalisburymd.com/calendar/worship-service-11am-5/2026-03-08/
LOCATION:Bethany Lutheran Church\, 817 Camden Avenue\, Salisbury\, MD\, 21801\, United States
CATEGORIES:Worship 11 am
GEO:38.353845;-75.6063629
X-APPLE-STRUCTURED-LOCATION;VALUE=URI;X-ADDRESS=Bethany Lutheran Church 817 Camden Avenue Salisbury MD 21801 United States;X-APPLE-RADIUS=500;X-TITLE=817 Camden Avenue:geo:-75.6063629,38.353845
END:VEVENT
BEGIN:VEVENT
DTSTART;TZID=America/New_York:20260301T110000
DTEND;TZID=America/New_York:20260301T120000
DTSTAMP:20260421T180748
CREATED:20260301T213249Z
LAST-MODIFIED:20260301T213249Z
UID:10002479-1772362800-1772366400@www.bethanylutheransalisburymd.com
SUMMARY:Worship Service 11am
DESCRIPTION:
URL:https://www.bethanylutheransalisburymd.com/calendar/worship-service-11am-5/2026-03-01/
LOCATION:Bethany Lutheran Church\, 817 Camden Avenue\, Salisbury\, MD\, 21801\, United States
CATEGORIES:Worship 11 am
GEO:38.353845;-75.6063629
X-APPLE-STRUCTURED-LOCATION;VALUE=URI;X-ADDRESS=Bethany Lutheran Church 817 Camden Avenue Salisbury MD 21801 United States;X-APPLE-RADIUS=500;X-TITLE=817 Camden Avenue:geo:-75.6063629,38.353845
END:VEVENT
BEGIN:VEVENT
DTSTART;TZID=America/New_York:20260125T110000
DTEND;TZID=America/New_York:20260125T120000
DTSTAMP:20260421T180748
CREATED:20260101T223041Z
LAST-MODIFIED:20260101T223041Z
UID:10002441-1769338800-1769342400@www.bethanylutheransalisburymd.com
SUMMARY:WORSHIP SERVICE 11am
DESCRIPTION:
URL:https://www.bethanylutheransalisburymd.com/calendar/worship-service-11am-3/2026-01-25/
LOCATION:Bethany Lutheran Church\, 817 Camden Avenue\, Salisbury\, MD\, 21801\, United States
CATEGORIES:Worship 11 am
GEO:38.353845;-75.6063629
X-APPLE-STRUCTURED-LOCATION;VALUE=URI;X-ADDRESS=Bethany Lutheran Church 817 Camden Avenue Salisbury MD 21801 United States;X-APPLE-RADIUS=500;X-TITLE=817 Camden Avenue:geo:-75.6063629,38.353845
END:VEVENT
BEGIN:VEVENT
DTSTART;TZID=America/New_York:20260118T110000
DTEND;TZID=America/New_York:20260118T120000
DTSTAMP:20260421T180748
CREATED:20260101T223041Z
LAST-MODIFIED:20260101T223041Z
UID:10002440-1768734000-1768737600@www.bethanylutheransalisburymd.com
SUMMARY:WORSHIP SERVICE 11am
DESCRIPTION:
URL:https://www.bethanylutheransalisburymd.com/calendar/worship-service-11am-3/2026-01-18/
LOCATION:Bethany Lutheran Church\, 817 Camden Avenue\, Salisbury\, MD\, 21801\, United States
CATEGORIES:Worship 11 am
GEO:38.353845;-75.6063629
X-APPLE-STRUCTURED-LOCATION;VALUE=URI;X-ADDRESS=Bethany Lutheran Church 817 Camden Avenue Salisbury MD 21801 United States;X-APPLE-RADIUS=500;X-TITLE=817 Camden Avenue:geo:-75.6063629,38.353845
END:VEVENT
BEGIN:VEVENT
DTSTART;TZID=America/New_York:20260111T110000
DTEND;TZID=America/New_York:20260111T120000
DTSTAMP:20260421T180748
CREATED:20260101T223041Z
LAST-MODIFIED:20260101T223041Z
UID:10002439-1768129200-1768132800@www.bethanylutheransalisburymd.com
SUMMARY:WORSHIP SERVICE 11am
DESCRIPTION:
URL:https://www.bethanylutheransalisburymd.com/calendar/worship-service-11am-3/2026-01-11/
LOCATION:Bethany Lutheran Church\, 817 Camden Avenue\, Salisbury\, MD\, 21801\, United States
CATEGORIES:Worship 11 am
GEO:38.353845;-75.6063629
X-APPLE-STRUCTURED-LOCATION;VALUE=URI;X-ADDRESS=Bethany Lutheran Church 817 Camden Avenue Salisbury MD 21801 United States;X-APPLE-RADIUS=500;X-TITLE=817 Camden Avenue:geo:-75.6063629,38.353845
END:VEVENT
BEGIN:VEVENT
DTSTART;TZID=America/New_York:20260104T110000
DTEND;TZID=America/New_York:20260104T120000
DTSTAMP:20260421T180748
CREATED:20260101T223041Z
LAST-MODIFIED:20260101T223041Z
UID:10002438-1767524400-1767528000@www.bethanylutheransalisburymd.com
SUMMARY:WORSHIP SERVICE 11am
DESCRIPTION:
URL:https://www.bethanylutheransalisburymd.com/calendar/worship-service-11am-3/2026-01-04/
LOCATION:Bethany Lutheran Church\, 817 Camden Avenue\, Salisbury\, MD\, 21801\, United States
CATEGORIES:Worship 11 am
GEO:38.353845;-75.6063629
X-APPLE-STRUCTURED-LOCATION;VALUE=URI;X-ADDRESS=Bethany Lutheran Church 817 Camden Avenue Salisbury MD 21801 United States;X-APPLE-RADIUS=500;X-TITLE=817 Camden Avenue:geo:-75.6063629,38.353845
END:VEVENT
BEGIN:VEVENT
DTSTART;TZID=America/New_York:20251228T110000
DTEND;TZID=America/New_York:20251228T120000
DTSTAMP:20260421T180748
CREATED:20251201T235146Z
LAST-MODIFIED:20251201T235346Z
UID:10002426-1766919600-1766923200@www.bethanylutheransalisburymd.com
SUMMARY:Worship Service 11am
DESCRIPTION:
URL:https://www.bethanylutheransalisburymd.com/calendar/worship-service-11am-2/2025-12-28/
LOCATION:Bethany Lutheran Church\, 817 Camden Avenue\, Salisbury\, MD\, 21801\, United States
CATEGORIES:Worship 11 am
GEO:38.353845;-75.6063629
X-APPLE-STRUCTURED-LOCATION;VALUE=URI;X-ADDRESS=Bethany Lutheran Church 817 Camden Avenue Salisbury MD 21801 United States;X-APPLE-RADIUS=500;X-TITLE=817 Camden Avenue:geo:-75.6063629,38.353845
END:VEVENT
BEGIN:VEVENT
DTSTART;TZID=America/New_York:20251221T110000
DTEND;TZID=America/New_York:20251221T120000
DTSTAMP:20260421T180748
CREATED:20251201T235146Z
LAST-MODIFIED:20251201T235346Z
UID:10002425-1766314800-1766318400@www.bethanylutheransalisburymd.com
SUMMARY:Worship Service 11am
DESCRIPTION:
URL:https://www.bethanylutheransalisburymd.com/calendar/worship-service-11am-2/2025-12-21/
LOCATION:Bethany Lutheran Church\, 817 Camden Avenue\, Salisbury\, MD\, 21801\, United States
CATEGORIES:Worship 11 am
GEO:38.353845;-75.6063629
X-APPLE-STRUCTURED-LOCATION;VALUE=URI;X-ADDRESS=Bethany Lutheran Church 817 Camden Avenue Salisbury MD 21801 United States;X-APPLE-RADIUS=500;X-TITLE=817 Camden Avenue:geo:-75.6063629,38.353845
END:VEVENT
BEGIN:VEVENT
DTSTART;TZID=America/New_York:20251214T110000
DTEND;TZID=America/New_York:20251214T120000
DTSTAMP:20260421T180748
CREATED:20251201T235146Z
LAST-MODIFIED:20251201T235346Z
UID:10002424-1765710000-1765713600@www.bethanylutheransalisburymd.com
SUMMARY:Worship Service 11am
DESCRIPTION:
URL:https://www.bethanylutheransalisburymd.com/calendar/worship-service-11am-2/2025-12-14/
LOCATION:Bethany Lutheran Church\, 817 Camden Avenue\, Salisbury\, MD\, 21801\, United States
CATEGORIES:Worship 11 am
GEO:38.353845;-75.6063629
X-APPLE-STRUCTURED-LOCATION;VALUE=URI;X-ADDRESS=Bethany Lutheran Church 817 Camden Avenue Salisbury MD 21801 United States;X-APPLE-RADIUS=500;X-TITLE=817 Camden Avenue:geo:-75.6063629,38.353845
END:VEVENT
BEGIN:VEVENT
DTSTART;TZID=America/New_York:20251207T110000
DTEND;TZID=America/New_York:20251207T120000
DTSTAMP:20260421T180748
CREATED:20251201T235146Z
LAST-MODIFIED:20251201T235346Z
UID:10002423-1765105200-1765108800@www.bethanylutheransalisburymd.com
SUMMARY:Worship Service 11am
DESCRIPTION:
URL:https://www.bethanylutheransalisburymd.com/calendar/worship-service-11am-2/2025-12-07/
LOCATION:Bethany Lutheran Church\, 817 Camden Avenue\, Salisbury\, MD\, 21801\, United States
CATEGORIES:Worship 11 am
GEO:38.353845;-75.6063629
X-APPLE-STRUCTURED-LOCATION;VALUE=URI;X-ADDRESS=Bethany Lutheran Church 817 Camden Avenue Salisbury MD 21801 United States;X-APPLE-RADIUS=500;X-TITLE=817 Camden Avenue:geo:-75.6063629,38.353845
END:VEVENT
BEGIN:VEVENT
DTSTART;TZID=America/New_York:20251130T110000
DTEND;TZID=America/New_York:20251130T120000
DTSTAMP:20260421T180748
CREATED:20251101T225443Z
LAST-MODIFIED:20251101T225443Z
UID:10002311-1764500400-1764504000@www.bethanylutheransalisburymd.com
SUMMARY:Worship Service 11am
DESCRIPTION:
URL:https://www.bethanylutheransalisburymd.com/calendar/worship-service-11am/2025-11-30/
LOCATION:Bethany Lutheran Church\, 817 Camden Avenue\, Salisbury\, MD\, 21801\, United States
CATEGORIES:Worship 11 am
GEO:38.353845;-75.6063629
X-APPLE-STRUCTURED-LOCATION;VALUE=URI;X-ADDRESS=Bethany Lutheran Church 817 Camden Avenue Salisbury MD 21801 United States;X-APPLE-RADIUS=500;X-TITLE=817 Camden Avenue:geo:-75.6063629,38.353845
END:VEVENT
BEGIN:VEVENT
DTSTART;TZID=America/New_York:20251123T110000
DTEND;TZID=America/New_York:20251123T120000
DTSTAMP:20260421T180748
CREATED:20251101T225443Z
LAST-MODIFIED:20251101T225443Z
UID:10002310-1763895600-1763899200@www.bethanylutheransalisburymd.com
SUMMARY:Worship Service 11am
DESCRIPTION:
URL:https://www.bethanylutheransalisburymd.com/calendar/worship-service-11am/2025-11-23/
LOCATION:Bethany Lutheran Church\, 817 Camden Avenue\, Salisbury\, MD\, 21801\, United States
CATEGORIES:Worship 11 am
GEO:38.353845;-75.6063629
X-APPLE-STRUCTURED-LOCATION;VALUE=URI;X-ADDRESS=Bethany Lutheran Church 817 Camden Avenue Salisbury MD 21801 United States;X-APPLE-RADIUS=500;X-TITLE=817 Camden Avenue:geo:-75.6063629,38.353845
END:VEVENT
BEGIN:VEVENT
DTSTART;TZID=America/New_York:20251109T110000
DTEND;TZID=America/New_York:20251109T120000
DTSTAMP:20260421T180748
CREATED:20251101T224659Z
LAST-MODIFIED:20251101T224700Z
UID:10001119-1762686000-1762689600@www.bethanylutheransalisburymd.com
SUMMARY:Worship Service 11am
DESCRIPTION:
URL:https://www.bethanylutheransalisburymd.com/calendar/worship-service-11am-3-2/2025-11-09/
LOCATION:Bethany Lutheran Church\, 817 Camden Avenue\, Salisbury\, MD\, 21801\, United States
CATEGORIES:Worship 11 am
GEO:38.353845;-75.6063629
X-APPLE-STRUCTURED-LOCATION;VALUE=URI;X-ADDRESS=Bethany Lutheran Church 817 Camden Avenue Salisbury MD 21801 United States;X-APPLE-RADIUS=500;X-TITLE=817 Camden Avenue:geo:-75.6063629,38.353845
END:VEVENT
BEGIN:VEVENT
DTSTART;TZID=America/New_York:20251102T110000
DTEND;TZID=America/New_York:20251102T120000
DTSTAMP:20260421T180748
CREATED:20251101T224659Z
LAST-MODIFIED:20251101T224700Z
UID:10001118-1762081200-1762084800@www.bethanylutheransalisburymd.com
SUMMARY:Worship Service 11am
DESCRIPTION:
URL:https://www.bethanylutheransalisburymd.com/calendar/worship-service-11am-3-2/2025-11-02/
LOCATION:Bethany Lutheran Church\, 817 Camden Avenue\, Salisbury\, MD\, 21801\, United States
CATEGORIES:Worship 11 am
GEO:38.353845;-75.6063629
X-APPLE-STRUCTURED-LOCATION;VALUE=URI;X-ADDRESS=Bethany Lutheran Church 817 Camden Avenue Salisbury MD 21801 United States;X-APPLE-RADIUS=500;X-TITLE=817 Camden Avenue:geo:-75.6063629,38.353845
END:VEVENT
END:VCALENDAR