BEGIN:VCALENDAR
VERSION:2.0
PRODID:-//Bethany Lutheran Church LCMS - ECPv6.15.20//NONSGML v1.0//EN
CALSCALE:GREGORIAN
METHOD:PUBLISH
X-ORIGINAL-URL:https://www.bethanylutheransalisburymd.com
X-WR-CALDESC:Events for Bethany Lutheran Church LCMS
REFRESH-INTERVAL;VALUE=DURATION:PT1H
X-Robots-Tag:noindex
X-PUBLISHED-TTL:PT1H
BEGIN:VTIMEZONE
TZID:America/New_York
BEGIN:DAYLIGHT
TZOFFSETFROM:-0500
TZOFFSETTO:-0400
TZNAME:EDT
DTSTART:20230312T070000
END:DAYLIGHT
BEGIN:STANDARD
TZOFFSETFROM:-0400
TZOFFSETTO:-0500
TZNAME:EST
DTSTART:20231105T060000
END:STANDARD
BEGIN:DAYLIGHT
TZOFFSETFROM:-0500
TZOFFSETTO:-0400
TZNAME:EDT
DTSTART:20240310T070000
END:DAYLIGHT
BEGIN:STANDARD
TZOFFSETFROM:-0400
TZOFFSETTO:-0500
TZNAME:EST
DTSTART:20241103T060000
END:STANDARD
BEGIN:DAYLIGHT
TZOFFSETFROM:-0500
TZOFFSETTO:-0400
TZNAME:EDT
DTSTART:20250309T070000
END:DAYLIGHT
BEGIN:STANDARD
TZOFFSETFROM:-0400
TZOFFSETTO:-0500
TZNAME:EST
DTSTART:20251102T060000
END:STANDARD
BEGIN:DAYLIGHT
TZOFFSETFROM:-0500
TZOFFSETTO:-0400
TZNAME:EDT
DTSTART:20260308T070000
END:DAYLIGHT
BEGIN:STANDARD
TZOFFSETFROM:-0400
TZOFFSETTO:-0500
TZNAME:EST
DTSTART:20261101T060000
END:STANDARD
BEGIN:DAYLIGHT
TZOFFSETFROM:-0500
TZOFFSETTO:-0400
TZNAME:EDT
DTSTART:20270314T070000
END:DAYLIGHT
BEGIN:STANDARD
TZOFFSETFROM:-0400
TZOFFSETTO:-0500
TZNAME:EST
DTSTART:20271107T060000
END:STANDARD
END:VTIMEZONE
BEGIN:VEVENT
DTSTART;TZID=America/New_York:20260414T110000
DTEND;TZID=America/New_York:20260414T120000
DTSTAMP:20260421T135929
CREATED:20260401T031656Z
LAST-MODIFIED:20260401T031656Z
UID:10002518-1776164400-1776168000@www.bethanylutheransalisburymd.com
SUMMARY:Martha Circle
DESCRIPTION:
URL:https://www.bethanylutheransalisburymd.com/calendar/martha-circle-10/
LOCATION:Bethany Lutheran Church\, 817 Camden Avenue\, Salisbury\, MD\, 21801\, United States
CATEGORIES:Martha Circle
GEO:38.353845;-75.6063629
X-APPLE-STRUCTURED-LOCATION;VALUE=URI;X-ADDRESS=Bethany Lutheran Church 817 Camden Avenue Salisbury MD 21801 United States;X-APPLE-RADIUS=500;X-TITLE=817 Camden Avenue:geo:-75.6063629,38.353845
END:VEVENT
BEGIN:VEVENT
DTSTART;TZID=America/New_York:20260310T110000
DTEND;TZID=America/New_York:20260310T120000
DTSTAMP:20260421T135929
CREATED:20260301T213511Z
LAST-MODIFIED:20260301T213511Z
UID:10002493-1773140400-1773144000@www.bethanylutheransalisburymd.com
SUMMARY:Martha Circle
DESCRIPTION:
URL:https://www.bethanylutheransalisburymd.com/calendar/martha-circle-9/
LOCATION:Bethany Lutheran Church\, 817 Camden Avenue\, Salisbury\, MD\, 21801\, United States
CATEGORIES:Martha Circle
GEO:38.353845;-75.6063629
X-APPLE-STRUCTURED-LOCATION;VALUE=URI;X-ADDRESS=Bethany Lutheran Church 817 Camden Avenue Salisbury MD 21801 United States;X-APPLE-RADIUS=500;X-TITLE=817 Camden Avenue:geo:-75.6063629,38.353845
END:VEVENT
BEGIN:VEVENT
DTSTART;TZID=America/New_York:20260210T110000
DTEND;TZID=America/New_York:20260210T120000
DTSTAMP:20260421T135929
CREATED:20260202T033047Z
LAST-MODIFIED:20260202T033047Z
UID:10002468-1770721200-1770724800@www.bethanylutheransalisburymd.com
SUMMARY:Martha Circle
DESCRIPTION:
URL:https://www.bethanylutheransalisburymd.com/calendar/martha-circle-8/
LOCATION:Bethany Lutheran Church\, 817 Camden Avenue\, Salisbury\, MD\, 21801\, United States
CATEGORIES:Martha Circle
GEO:38.353845;-75.6063629
X-APPLE-STRUCTURED-LOCATION;VALUE=URI;X-ADDRESS=Bethany Lutheran Church 817 Camden Avenue Salisbury MD 21801 United States;X-APPLE-RADIUS=500;X-TITLE=817 Camden Avenue:geo:-75.6063629,38.353845
END:VEVENT
BEGIN:VEVENT
DTSTART;TZID=America/New_York:20260113T110000
DTEND;TZID=America/New_York:20260113T120000
DTSTAMP:20260421T135929
CREATED:20260101T223341Z
LAST-MODIFIED:20260101T223341Z
UID:10002451-1768302000-1768305600@www.bethanylutheransalisburymd.com
SUMMARY:MARTHA CIRCLE
DESCRIPTION:
URL:https://www.bethanylutheransalisburymd.com/calendar/martha-circle-7/
LOCATION:Bethany Lutheran Church\, 817 Camden Avenue\, Salisbury\, MD\, 21801\, United States
CATEGORIES:Martha Circle
GEO:38.353845;-75.6063629
X-APPLE-STRUCTURED-LOCATION;VALUE=URI;X-ADDRESS=Bethany Lutheran Church 817 Camden Avenue Salisbury MD 21801 United States;X-APPLE-RADIUS=500;X-TITLE=817 Camden Avenue:geo:-75.6063629,38.353845
END:VEVENT
BEGIN:VEVENT
DTSTART;TZID=America/New_York:20251209T110000
DTEND;TZID=America/New_York:20251209T120000
DTSTAMP:20260421T135929
CREATED:20251202T000028Z
LAST-MODIFIED:20251202T000028Z
UID:10002430-1765278000-1765281600@www.bethanylutheransalisburymd.com
SUMMARY:Martha Circle
DESCRIPTION:
URL:https://www.bethanylutheransalisburymd.com/calendar/martha-circle-6/
LOCATION:Bethany Lutheran Church\, 817 Camden Avenue\, Salisbury\, MD\, 21801\, United States
CATEGORIES:Martha Circle
GEO:38.353845;-75.6063629
X-APPLE-STRUCTURED-LOCATION;VALUE=URI;X-ADDRESS=Bethany Lutheran Church 817 Camden Avenue Salisbury MD 21801 United States;X-APPLE-RADIUS=500;X-TITLE=817 Camden Avenue:geo:-75.6063629,38.353845
END:VEVENT
BEGIN:VEVENT
DTSTART;TZID=America/New_York:20251111T110000
DTEND;TZID=America/New_York:20251111T120000
DTSTAMP:20260421T135929
CREATED:20250901T125343Z
LAST-MODIFIED:20251101T223641Z
UID:10002241-1762858800-1762862400@www.bethanylutheransalisburymd.com
SUMMARY:Martha Circle
DESCRIPTION:
URL:https://www.bethanylutheransalisburymd.com/calendar/martha-circle-5/
LOCATION:Bethany Lutheran Church\, 817 Camden Avenue\, Salisbury\, MD\, 21801\, United States
CATEGORIES:Martha Circle
GEO:38.353845;-75.6063629
X-APPLE-STRUCTURED-LOCATION;VALUE=URI;X-ADDRESS=Bethany Lutheran Church 817 Camden Avenue Salisbury MD 21801 United States;X-APPLE-RADIUS=500;X-TITLE=817 Camden Avenue:geo:-75.6063629,38.353845
END:VEVENT
BEGIN:VEVENT
DTSTART;TZID=America/New_York:20250508T110000
DTEND;TZID=America/New_York:20250508T120000
DTSTAMP:20260421T135929
CREATED:20250511T004258Z
LAST-MODIFIED:20250511T004258Z
UID:10001358-1746702000-1746705600@www.bethanylutheransalisburymd.com
SUMMARY:Martha Circle
DESCRIPTION:
URL:https://www.bethanylutheransalisburymd.com/calendar/martha-circle-4/
LOCATION:Bethany Lutheran Church\, 817 Camden Avenue\, Salisbury\, MD\, 21801\, United States
CATEGORIES:Martha Circle
GEO:38.353845;-75.6063629
X-APPLE-STRUCTURED-LOCATION;VALUE=URI;X-ADDRESS=Bethany Lutheran Church 817 Camden Avenue Salisbury MD 21801 United States;X-APPLE-RADIUS=500;X-TITLE=817 Camden Avenue:geo:-75.6063629,38.353845
END:VEVENT
BEGIN:VEVENT
DTSTART;TZID=America/New_York:20250408T110000
DTEND;TZID=America/New_York:20250408T120000
DTSTAMP:20260421T135929
CREATED:20250404T022016Z
LAST-MODIFIED:20250404T022016Z
UID:10000811-1744110000-1744113600@www.bethanylutheransalisburymd.com
SUMMARY:Martha Circle
DESCRIPTION:
URL:https://www.bethanylutheransalisburymd.com/calendar/martha-circle-3/
LOCATION:Bethany Lutheran Church\, 817 Camden Avenue\, Salisbury\, MD\, 21801\, United States
CATEGORIES:Martha Circle
GEO:38.353845;-75.6063629
X-APPLE-STRUCTURED-LOCATION;VALUE=URI;X-ADDRESS=Bethany Lutheran Church 817 Camden Avenue Salisbury MD 21801 United States;X-APPLE-RADIUS=500;X-TITLE=817 Camden Avenue:geo:-75.6063629,38.353845
END:VEVENT
BEGIN:VEVENT
DTSTART;TZID=America/New_York:20250311T110000
DTEND;TZID=America/New_York:20250311T120000
DTSTAMP:20260421T135929
CREATED:20250310T004641Z
LAST-MODIFIED:20250310T004641Z
UID:10000732-1741690800-1741694400@www.bethanylutheransalisburymd.com
SUMMARY:Martha Circle
DESCRIPTION:
URL:https://www.bethanylutheransalisburymd.com/calendar/martha-circle-2/
LOCATION:Bethany Lutheran Church\, 817 Camden Avenue\, Salisbury\, MD\, 21801\, United States
CATEGORIES:Martha Circle
GEO:38.353845;-75.6063629
X-APPLE-STRUCTURED-LOCATION;VALUE=URI;X-ADDRESS=Bethany Lutheran Church 817 Camden Avenue Salisbury MD 21801 United States;X-APPLE-RADIUS=500;X-TITLE=817 Camden Avenue:geo:-75.6063629,38.353845
END:VEVENT
BEGIN:VEVENT
DTSTART;TZID=America/New_York:20250308T140000
DTEND;TZID=America/New_York:20250308T150000
DTSTAMP:20260421T135929
CREATED:20250310T004547Z
LAST-MODIFIED:20250310T004711Z
UID:10000731-1741442400-1741446000@www.bethanylutheransalisburymd.com
SUMMARY:Senior Social
DESCRIPTION:
URL:https://www.bethanylutheransalisburymd.com/calendar/senior-social-2/
LOCATION:Bethany Lutheran Church\, 817 Camden Avenue\, Salisbury\, MD\, 21801\, United States
CATEGORIES:Martha Circle,Senior Social
GEO:38.353845;-75.6063629
X-APPLE-STRUCTURED-LOCATION;VALUE=URI;X-ADDRESS=Bethany Lutheran Church 817 Camden Avenue Salisbury MD 21801 United States;X-APPLE-RADIUS=500;X-TITLE=817 Camden Avenue:geo:-75.6063629,38.353845
END:VEVENT
BEGIN:VEVENT
DTSTART;TZID=America/New_York:20241112T110000
DTEND;TZID=America/New_York:20241112T120000
DTSTAMP:20260421T135929
CREATED:20240903T204505Z
LAST-MODIFIED:20241102T160828Z
UID:10000028-1731409200-1731412800@www.bethanylutheransalisburymd.com
SUMMARY:Martha Circle
DESCRIPTION:
URL:https://www.bethanylutheransalisburymd.com/calendar/martha-circle/
LOCATION:Bethany Lutheran Church\, 817 Camden Avenue\, Salisbury\, MD\, 21801\, United States
CATEGORIES:Martha Circle
GEO:38.353845;-75.6063629
X-APPLE-STRUCTURED-LOCATION;VALUE=URI;X-ADDRESS=Bethany Lutheran Church 817 Camden Avenue Salisbury MD 21801 United States;X-APPLE-RADIUS=500;X-TITLE=817 Camden Avenue:geo:-75.6063629,38.353845
END:VEVENT
END:VCALENDAR